BEGIN:VCALENDAR
VERSION:2.0
PRODID:-//Ville Morte - ECPv5.12.4//NONSGML v1.0//EN
CALSCALE:GREGORIAN
METHOD:PUBLISH
X-WR-CALNAME:Ville Morte
X-ORIGINAL-URL:https://villemorte.fr
X-WR-CALDESC:évènements pour Ville Morte
BEGIN:VTIMEZONE
TZID:Europe/Paris
BEGIN:DAYLIGHT
TZOFFSETFROM:+0100
TZOFFSETTO:+0200
TZNAME:CEST
DTSTART:20230326T010000
END:DAYLIGHT
BEGIN:STANDARD
TZOFFSETFROM:+0200
TZOFFSETTO:+0100
TZNAME:CET
DTSTART:20231029T010000
END:STANDARD
END:VTIMEZONE
BEGIN:VEVENT
DTSTART;TZID=Europe/Paris:20231109T180000
DTEND;TZID=Europe/Paris:20231109T180000
DTSTAMP:20260424T145429
CREATED:20231014T084808Z
LAST-MODIFIED:20231105T144657Z
UID:21293-1699552800-1699552800@villemorte.fr
SUMMARY:[ANNULE] Cantine de soutien au Cartel des cantines + pass’pass de Vinyles
DESCRIPTION:(événement annulé – mail GZ 03/11)  Cantine de soutien au Cartel des cantines + pass’pass de Vinyles
URL:https://villemorte.fr/agenda/cantine-de-soutien-au-cartel-des-cantines/
LOCATION:Grrrnd Zero\, 60\, avenue de Bohlen\, Vaulx en Velin\, 69120
CATEGORIES:bouffe
END:VEVENT
END:VCALENDAR