BEGIN:VCALENDAR
VERSION:2.0
PRODID:-//Ville Morte - ECPv5.12.4//NONSGML v1.0//EN
CALSCALE:GREGORIAN
METHOD:PUBLISH
X-WR-CALNAME:Ville Morte
X-ORIGINAL-URL:https://villemorte.fr
X-WR-CALDESC:évènements pour Ville Morte
BEGIN:VTIMEZONE
TZID:Europe/Paris
BEGIN:DAYLIGHT
TZOFFSETFROM:+0100
TZOFFSETTO:+0200
TZNAME:CEST
DTSTART:20190331T010000
END:DAYLIGHT
BEGIN:STANDARD
TZOFFSETFROM:+0200
TZOFFSETTO:+0100
TZNAME:CET
DTSTART:20191027T010000
END:STANDARD
END:VTIMEZONE
BEGIN:VEVENT
DTSTART;TZID=Europe/Paris:20190518T200000
DTEND;TZID=Europe/Paris:20190518T220000
DTSTAMP:20260425T232739
CREATED:20190509T143535Z
LAST-MODIFIED:20190509T143535Z
UID:9506-1558209600-1558216800@villemorte.fr
SUMMARY:Carcass Identity + Dezeff / (Bear Bones Lay Low & Carrageenan)
DESCRIPTION:18 Mai 2019 — 20h/22h — 5 euros\nAdresse : somaticae at gmail dot com\nOUI CA VA COMMENCER A L’HEURE. \nCarcass Identity -> Industrial Hippies\nLes plus grands jet-setteurs de Bruxelles\, Ernesto de Bear Bones et Mathieu des Pizza Noise\, joignent leurs forces pour nous concocter une musique tribale\, indus et psychédélique.\nÇa s’écoute là : https://randomnumbers.bandcamp.com/album/carcass-identity-2\nSoyez les premiers à les découvrir en live avant qu’ils soient bookés aux nuits sonores tous les ans comme Agoria ! \nDezeffe -> Ascenseur Techno Émotionnel\nÉcrivain du gang noir de Siébert-Beretta\, Dezeffe nous prépare un tout nouveau live de trap\, de bass music et de techno bien épuré.\nOn peux écouter ça ici : https://soundcloud.com/dezeffe/wire
URL:https://villemorte.fr/agenda/carcass-identity-dezeff-bear-bones-lay-low-carrageenan/
LOCATION:somaticae@gmail.com
CATEGORIES:musique live
END:VEVENT
END:VCALENDAR