BEGIN:VCALENDAR
VERSION:2.0
PRODID:-//Ville Morte - ECPv5.12.4//NONSGML v1.0//EN
CALSCALE:GREGORIAN
METHOD:PUBLISH
X-WR-CALNAME:Ville Morte
X-ORIGINAL-URL:https://villemorte.fr
X-WR-CALDESC:évènements pour Ville Morte
BEGIN:VTIMEZONE
TZID:Europe/Paris
BEGIN:DAYLIGHT
TZOFFSETFROM:+0100
TZOFFSETTO:+0200
TZNAME:CEST
DTSTART:20220327T010000
END:DAYLIGHT
BEGIN:STANDARD
TZOFFSETFROM:+0200
TZOFFSETTO:+0100
TZNAME:CET
DTSTART:20221030T010000
END:STANDARD
END:VTIMEZONE
BEGIN:VEVENT
DTSTART;TZID=Europe/Paris:20220409T193000
DTEND;TZID=Europe/Paris:20220409T233000
DTSTAMP:20260420T002913
CREATED:20220213T153627Z
LAST-MODIFIED:20220325T002054Z
UID:14830-1649532600-1649547000@villemorte.fr
SUMMARY:CARIVARI - ERRATUM - YOGUI&BILOU - SCHTERN - RÅTTEN
DESCRIPTION:CARIVARI \nhttps://carivari.bandcamp.com/ \nERRATUM \nhttps://dis-is-glutte.org/music-2/ \nYOGUI&BILOU \nhttps://yoguibilou.bandcamp.com/releases \nSCHTERN \n \nRÅTTEN \nhttps://rattenblackmetal.bandcamp.com/ \n  \nSur place à manger vegan et à boire\npas de cb prévoir de la monnaie
URL:https://villemorte.fr/agenda/carivari-ran-erratum-yoguibilou-schtern-ratten/
LOCATION:Grrrnd Zero\, 60\, avenue de Bohlen\, Vaulx en Velin\, 69120
CATEGORIES:musique live
END:VEVENT
END:VCALENDAR