BEGIN:VCALENDAR
VERSION:2.0
PRODID:-//Ville Morte - ECPv5.12.4//NONSGML v1.0//EN
CALSCALE:GREGORIAN
METHOD:PUBLISH
X-WR-CALNAME:Ville Morte
X-ORIGINAL-URL:https://villemorte.fr
X-WR-CALDESC:évènements pour Ville Morte
BEGIN:VTIMEZONE
TZID:Europe/Paris
BEGIN:DAYLIGHT
TZOFFSETFROM:+0100
TZOFFSETTO:+0200
TZNAME:CEST
DTSTART:20210328T010000
END:DAYLIGHT
BEGIN:STANDARD
TZOFFSETFROM:+0200
TZOFFSETTO:+0100
TZNAME:CET
DTSTART:20211031T010000
END:STANDARD
END:VTIMEZONE
BEGIN:VEVENT
DTSTART;TZID=Europe/Paris:20211111T203000
DTEND;TZID=Europe/Paris:20211111T203000
DTSTAMP:20260422T111109
CREATED:20211103T134537Z
LAST-MODIFIED:20211103T134732Z
UID:14125-1636662600-1636662600@villemorte.fr
SUMMARY:Carte blanche à KARINE DAVIET
DESCRIPTION:Carte blanche à KARINE DAVIET\nChanson – Lyon \nGuitare au poing\, Karine Daviet trace la perspective d’un répertoire protéiforme\, allant du manifeste féministe à la poésie fragile ou engagée. \nEntre blessures et guérisons\, rock et baroque\, Camille et Claire Diterzi\, Karine propose un rapport au monde à la fois puissant et naïf\, plein d’étonnement et de douceur — de libertés. \n\nFacebook\nÉcouter
URL:https://villemorte.fr/agenda/carte-blanche-a-karine-daviet/
LOCATION:Kraspek Myzik\, 20 Montée Saint Sébastien\, Lyon\, 69001\, France
CATEGORIES:musique live
END:VEVENT
END:VCALENDAR