BEGIN:VCALENDAR
VERSION:2.0
PRODID:-//Ville Morte - ECPv5.12.4//NONSGML v1.0//EN
CALSCALE:GREGORIAN
METHOD:PUBLISH
X-WR-CALNAME:Ville Morte
X-ORIGINAL-URL:https://villemorte.fr
X-WR-CALDESC:évènements pour Ville Morte
BEGIN:VTIMEZONE
TZID:Europe/Paris
BEGIN:DAYLIGHT
TZOFFSETFROM:+0100
TZOFFSETTO:+0200
TZNAME:CEST
DTSTART:20230326T010000
END:DAYLIGHT
BEGIN:STANDARD
TZOFFSETFROM:+0200
TZOFFSETTO:+0100
TZNAME:CET
DTSTART:20231029T010000
END:STANDARD
END:VTIMEZONE
BEGIN:VEVENT
DTSTART;TZID=Europe/Paris:20230823T190000
DTEND;TZID=Europe/Paris:20230823T190000
DTSTAMP:20260420T212221
CREATED:20230720T182321Z
LAST-MODIFIED:20230720T182526Z
UID:20064-1692817200-1692817200@villemorte.fr
SUMMARY:Concert 100% piano avec John Lander
DESCRIPTION:Le New-Yorkais John Lander mène depuis dix ans une carrière incroyablement éclectique\, touchant à pratiquement tous les aspects de l’art musical. Il a travaillé avec des artistes de Broadway\, des danseuses étoiles\, des divas de l’opéra\, des icônes du jazz\, des vedettes de la pop et des légendes du rap… Pour cette soirée il s’installe au piano et vous réserve ses plus belles pépites musicales dans des répertoires allant du Jazz à la pop en passant par les grands classiques…
URL:https://villemorte.fr/agenda/concert-100-piano-avec-john-lander/
LOCATION:Péristyle de l’Opéra\, 1 Place de la Comédie\, Lyon\, 69001
CATEGORIES:musique live
END:VEVENT
END:VCALENDAR