BEGIN:VCALENDAR
VERSION:2.0
PRODID:-//Ville Morte - ECPv5.12.4//NONSGML v1.0//EN
CALSCALE:GREGORIAN
METHOD:PUBLISH
X-WR-CALNAME:Ville Morte
X-ORIGINAL-URL:https://villemorte.fr
X-WR-CALDESC:évènements pour Ville Morte
BEGIN:VTIMEZONE
TZID:Europe/Paris
BEGIN:DAYLIGHT
TZOFFSETFROM:+0100
TZOFFSETTO:+0200
TZNAME:CEST
DTSTART:20210328T010000
END:DAYLIGHT
BEGIN:STANDARD
TZOFFSETFROM:+0200
TZOFFSETTO:+0100
TZNAME:CET
DTSTART:20211031T010000
END:STANDARD
END:VTIMEZONE
BEGIN:VEVENT
DTSTART;TZID=Europe/Paris:20211120T203000
DTEND;TZID=Europe/Paris:20211120T203000
DTSTAMP:20260425T193222
CREATED:20211103T130850Z
LAST-MODIFIED:20211103T130850Z
UID:14110-1637440200-1637440200@villemorte.fr
SUMMARY:CATHEDRALE + JP Goulag
DESCRIPTION:SAMEDI 20 NOVEMBRE @SONIC\nCATHEDRALE (Post punk / Howlin Banana) +  JP Goulag\n+ Infos\n+ Billetterie
URL:https://villemorte.fr/agenda/cathedrale-jp-goulag/
LOCATION:Sonic\, 4 quai des Etroits\, Lyon\, 69005\, France
CATEGORIES:musique live
END:VEVENT
END:VCALENDAR