BEGIN:VCALENDAR
VERSION:2.0
PRODID:-//Ville Morte - ECPv5.12.4//NONSGML v1.0//EN
CALSCALE:GREGORIAN
METHOD:PUBLISH
X-WR-CALNAME:Ville Morte
X-ORIGINAL-URL:https://villemorte.fr
X-WR-CALDESC:évènements pour Ville Morte
BEGIN:VTIMEZONE
TZID:Europe/Paris
BEGIN:DAYLIGHT
TZOFFSETFROM:+0100
TZOFFSETTO:+0200
TZNAME:CEST
DTSTART:20230326T010000
END:DAYLIGHT
BEGIN:STANDARD
TZOFFSETFROM:+0200
TZOFFSETTO:+0100
TZNAME:CET
DTSTART:20231029T010000
END:STANDARD
END:VTIMEZONE
BEGIN:VEVENT
DTSTART;TZID=Europe/Paris:20230331T203000
DTEND;TZID=Europe/Paris:20230331T203000
DTSTAMP:20260426T023354
CREATED:20230221T215345Z
LAST-MODIFIED:20230221T222250Z
UID:18610-1680294600-1680294600@villemorte.fr
SUMMARY:Cesar Palace + Bravo Brian + première partie ?
DESCRIPTION:Cesar palace ( solo drum electro Berlin )\n\nhttps://bruitblancmaintenant.bandcamp.com/album/glory-of-purity \n\nBravo Brian ( euro dance de Strasbourg )\n\n \n\nPremière partie ?
URL:https://villemorte.fr/agenda/cesar-palace-bravo-brian/
LOCATION:Bar des Capucins\, Place des Capucins\, Lyon\, 69001\, France
CATEGORIES:musique live
END:VEVENT
END:VCALENDAR