BEGIN:VCALENDAR
VERSION:2.0
PRODID:-//Ville Morte - ECPv5.12.4//NONSGML v1.0//EN
CALSCALE:GREGORIAN
METHOD:PUBLISH
X-WR-CALNAME:Ville Morte
X-ORIGINAL-URL:https://villemorte.fr
X-WR-CALDESC:évènements pour Ville Morte
BEGIN:VTIMEZONE
TZID:Europe/Paris
BEGIN:DAYLIGHT
TZOFFSETFROM:+0100
TZOFFSETTO:+0200
TZNAME:CEST
DTSTART:20210328T010000
END:DAYLIGHT
BEGIN:STANDARD
TZOFFSETFROM:+0200
TZOFFSETTO:+0100
TZNAME:CET
DTSTART:20211031T010000
END:STANDARD
END:VTIMEZONE
BEGIN:VEVENT
DTSTART;TZID=Europe/Paris:20211215T203000
DTEND;TZID=Europe/Paris:20211215T203000
DTSTAMP:20260419T161711
CREATED:20211128T120808Z
LAST-MODIFIED:20211128T120808Z
UID:14319-1639600200-1639600200@villemorte.fr
SUMMARY:Charles Bradley\, Soul of America (projection documentaire)
DESCRIPTION:L’Aquarium Ciné-Café et Marché Gare présentent\, en partenariat avec Jazz à Vienne \nCe documentaire plusieurs fois primé (SXSW\, Annapolis festival) retrace l’incroyable succès à 62 ans du soul man Charles Bradley. De son arrivée chez Daptone et Dunham records en passant par le stress et les incertitudes qui ont précédés la sortie en 2011 de son premier album “No Time For Dreaming”\, retour sur le destin fascinant d’un homme qui aura pris plus de 48 ans à réaliser son rêve. \nSorti en 2013\, le film de Poull Brien rend hommage à la trajectoire extraordinaire du musicien\, qui a enchainé des tournées internationales\, avec des nombreuses dates dans la région (Nuits de Fourvière\, Jazz à Vienne\, Epicerie Moderne…) avant de s’éteindre en il y a 4 ans. \nLa séance sera animée en compagnie de Benjamin Tanguy\, directeur artistique du Festival Jazz à Vienne. Il avait programmé en 2014 une soirée baptisée “The Daptone Super Soul Revue” avec Charles Bradley aux côtés de Sharon Jones & The Dap-Kings.
URL:https://villemorte.fr/agenda/charles-bradley-soul-of-america-projection-documentaire/
LOCATION:Aquarium Ciné Café\, 10 rue Dumont\, Lyon\, 69004\, France
CATEGORIES:projection
END:VEVENT
END:VCALENDAR