BEGIN:VCALENDAR
VERSION:2.0
PRODID:-//Ville Morte - ECPv5.12.4//NONSGML v1.0//EN
CALSCALE:GREGORIAN
METHOD:PUBLISH
X-WR-CALNAME:Ville Morte
X-ORIGINAL-URL:https://villemorte.fr
X-WR-CALDESC:évènements pour Ville Morte
BEGIN:VTIMEZONE
TZID:Europe/Paris
BEGIN:DAYLIGHT
TZOFFSETFROM:+0100
TZOFFSETTO:+0200
TZNAME:CEST
DTSTART:20230326T010000
END:DAYLIGHT
BEGIN:STANDARD
TZOFFSETFROM:+0200
TZOFFSETTO:+0100
TZNAME:CET
DTSTART:20231029T010000
END:STANDARD
END:VTIMEZONE
BEGIN:VEVENT
DTSTART;TZID=Europe/Paris:20231201T203000
DTEND;TZID=Europe/Paris:20231201T203000
DTSTAMP:20260420T133952
CREATED:20231115T215328Z
LAST-MODIFIED:20231115T215328Z
UID:21683-1701462600-1701462600@villemorte.fr
SUMMARY:Chipo + Yanka
DESCRIPTION:CHIPO\n\nChipo\, rappeur lyonnais\, est en pleine tournée d’automne pour présenter son nouvel EP « Barbecue Vol.2 ». Il tenait à passer par A Thou bout d’ Chant\, la scène de ses premiers pas de rappeur! \nAccompagné de son cousin\, le beatmaker Macho\, il continue à écrire sur lui même et ses congénères\, les hommes cis genre hétérosexuels: « On cherche à évoluer\, avec les potos cis het et fragiles\, à se dépolluer\, mais gros si c’était facile\, il suffirait de porter des faux cils ». Le programme est toujours le même: 6 ans après #balancetonporc\, il est encore d’actualité d’allumer le barbecue. \nChipo tenait à conclure la soirée de manière festive et toujours militante en conviant DJ Yanka\, figure clef de la scène hip hop lyonnaise\, à venir pour un set 100% hip-hop féminin et queer. \n\nYANKA\n\nYanka est Dj et rappeuse. \nSes mix « only bad betch » mettent en avant les femmes à l’international dans la culture hip hop avec un mélange de rap\, rnb\, trap\, drill\, cloud rap\, banger\, jersey\, shatta\, baile funk et afrobeat. \nOn peut la retrouver dans de nombreux souterrains ainsi que dans des événements et festivals tels que les Nuits Sonores\, Adidas Sound\, FIFIB\, Les Subs ou La Sueur.. \nRappeuse émergente\, elle tape fort en proposant un nouveau rap à l’énergie singulier et provoquant. Elle travaille avec le producteur King Doudou avec qui elle vient de sortir deux singles clipés TOY & Dring Dring \, qui donneront sur en ep commun cet été. \nOn peut la retrouver en itw sur Girls Don’t Cry ou Radio Nova et en radio sur RINSE\, noods radio\, radio nova\, radio beguin et Egregore.
URL:https://villemorte.fr/agenda/chipo-yanka/
LOCATION:À Thou Bout d’Chant\, 2 Rue de Thou\, LYON\, 69001
CATEGORIES:DJ Set,musique live
ATTACH;FMTTYPE=image/jpeg:https://villemorte.fr/wp-content/uploads/2023/11/Chipo-Yanka.jpg
END:VEVENT
END:VCALENDAR