BEGIN:VCALENDAR
VERSION:2.0
PRODID:-//Ville Morte - ECPv5.12.4//NONSGML v1.0//EN
CALSCALE:GREGORIAN
METHOD:PUBLISH
X-WR-CALNAME:Ville Morte
X-ORIGINAL-URL:https://villemorte.fr
X-WR-CALDESC:évènements pour Ville Morte
BEGIN:VTIMEZONE
TZID:Europe/Paris
BEGIN:DAYLIGHT
TZOFFSETFROM:+0100
TZOFFSETTO:+0200
TZNAME:CEST
DTSTART:20160327T010000
END:DAYLIGHT
BEGIN:STANDARD
TZOFFSETFROM:+0200
TZOFFSETTO:+0100
TZNAME:CET
DTSTART:20161030T010000
END:STANDARD
END:VTIMEZONE
BEGIN:VEVENT
DTSTART;TZID=Europe/Paris:20161112T180000
DTEND;TZID=Europe/Paris:20161112T180000
DTSTAMP:20260425T153518
CREATED:20161022T084744Z
LAST-MODIFIED:20161031T105810Z
UID:2542-1478973600-1478973600@villemorte.fr
SUMMARY:Ciné concert - Nanouk L'Esquimeau
DESCRIPTION:@Bal des Fringants \n▬▬▬▬▬★ Nanouk L’Esquimeau ★▬▬▬▬▬\nFilm documentaire de Robert Flaherty mis en musique par Romain Joubert \n► SAMEDI 12 NOVEMBRE – 18H ◄\n► Tout public à partir de 6 ans◄\n► Tarifs : 4€ enfants / 6€ adultes + (adhésion 1€ enfants 2€ adultes) ◄ \nLien vidéo : http://bit.ly/2dgBxRB \nTout en s’inspirant de la technique vocale ancestrale des chants gutturaux Inuits et du réalisme bruit des images\, Romain Joubert nous offre une friandise colorée\, mêlant bruitages sonores à base d’objets\, de voix\, accompagnée d’instruments classiques tels que la contrebasse\, le Kalimba ou bien encore la flûte traversière. Le compositeur nous propose dans son ciné‐concert une envolée musicale originale\, aux sonorités authentiques et sauvages\, où l’instrument devient vent\, le papier devient neige et le froid une couleur… \nNanouk l’Esquimau\, réalisé en 1922 par Robert Flaherty\, est le premier documentaire romancé de l’histoire. Ces premières images qu’il ramène du Grand Nord\, témoignent de la vie quotidienne d’un inuit\, Nanouk et de sa famille\, fatalement accordées avec l’hostilité d’un environnement assimilé à un « enfer blanc ». Le froid\, la glace\, le vent\, rythment l’organisation de cette société totalement déconnectée du monde dit « civilisé » et harmonieusement mise en lumière par le travail du réalisateur. \n► RESERVATIONS◄\ncontact@lagitateuse.com // Tél : 09 84 30 56 34 \n▬▬▬▬▬▬▬▬▬▬▬▬▬▬▬▬▬▬▬▬▬▬▬▬▬▬▬▬▬▬▬▬\nLE BAL DES FRINGANTS\, 11 rue du Bon Pasteur\, Lyon 1 // M° Croix Rousse\ncontact@lagitateuse.com // 09 84 30 56 34\nwww.lebaldesfringants.com
URL:https://villemorte.fr/agenda/cine-concert-nanouk-lesquimeau/
LOCATION:Le bal des fringants\, 11 Rue du Bon-Pasteur\, lyon\, 69001\, France
CATEGORIES:musique live,projection
ATTACH;FMTTYPE=image/jpeg:https://villemorte.fr/wp-content/uploads/2016/10/14700828_1046012832186661_2279502262568338689_o.jpg
END:VEVENT
END:VCALENDAR