BEGIN:VCALENDAR
VERSION:2.0
PRODID:-//Ville Morte - ECPv5.12.4//NONSGML v1.0//EN
CALSCALE:GREGORIAN
METHOD:PUBLISH
X-WR-CALNAME:Ville Morte
X-ORIGINAL-URL:https://villemorte.fr
X-WR-CALDESC:évènements pour Ville Morte
BEGIN:VTIMEZONE
TZID:Europe/Paris
BEGIN:DAYLIGHT
TZOFFSETFROM:+0100
TZOFFSETTO:+0200
TZNAME:CEST
DTSTART:20220327T010000
END:DAYLIGHT
BEGIN:STANDARD
TZOFFSETFROM:+0200
TZOFFSETTO:+0100
TZNAME:CET
DTSTART:20221030T010000
END:STANDARD
END:VTIMEZONE
BEGIN:VEVENT
DTSTART;TZID=Europe/Paris:20220325T153000
DTEND;TZID=Europe/Paris:20220325T173000
DTSTAMP:20260423T220516
CREATED:20220323T081704Z
LAST-MODIFIED:20220323T081704Z
UID:15283-1648222200-1648229400@villemorte.fr
SUMMARY:Clôture de la semaine de l’eau « les eaux souterraines »
DESCRIPTION:Autour de la Journée Mondiale de l’Eau le 22 mars\, LALCA\, laboratoire de recherches et de créations\, fête\, partage et se fait porte-voix de la dimension sociale de l’eau\, le droit à l’eau dans la ville\, comme fondement d’une Hospitalité inconditionnelle. Cette semaine de mars sera ainsi rythmée de temps forts\, de créations\, d’expérimentations et de débats publics.\nTous les événements sont gratuits et libres (parfois sur inscription). \nParticipation à la clôture de la semaine de l’eau « les eaux souterraines » portée par l’École urbaine de Lyon. \nDe 15h30 à 17h30\, Hôtel 71\, 69002 Lyon sur inscription\n> contact@lalca.org
URL:https://villemorte.fr/agenda/cloture-de-la-semaine-de-leau-les-eaux-souterraines/
LOCATION:Hôtel71\, 71 quai Perrache\, Lyon\, 69002
CATEGORIES:discussion
END:VEVENT
END:VCALENDAR