BEGIN:VCALENDAR
VERSION:2.0
PRODID:-//Ville Morte - ECPv5.12.4//NONSGML v1.0//EN
CALSCALE:GREGORIAN
METHOD:PUBLISH
X-WR-CALNAME:Ville Morte
X-ORIGINAL-URL:https://villemorte.fr
X-WR-CALDESC:évènements pour Ville Morte
BEGIN:VTIMEZONE
TZID:Europe/Paris
BEGIN:DAYLIGHT
TZOFFSETFROM:+0100
TZOFFSETTO:+0200
TZNAME:CEST
DTSTART:20190331T010000
END:DAYLIGHT
BEGIN:STANDARD
TZOFFSETFROM:+0200
TZOFFSETTO:+0100
TZNAME:CET
DTSTART:20191027T010000
END:STANDARD
END:VTIMEZONE
BEGIN:VEVENT
DTSTART;TZID=Europe/Paris:20191109T160000
DTEND;TZID=Europe/Paris:20191109T180000
DTSTAMP:20260425T051412
CREATED:20191026T105948Z
LAST-MODIFIED:20191026T105948Z
UID:10983-1573315200-1573322400@villemorte.fr
SUMMARY:Club des Grimoires #8
DESCRIPTION:Viens discuter dans un espace « safe » de féminismes et de sorcelleries à partir du livre « Le Guide pratique du féminisme divinatoire » (Camille Ducellier) et apprends comment invoquer l’esprit de Monique Wittig ! Aucune obligation d’avoir lu le livre. \nLe club des grimoires – POUR QUI / POURQUOI : \nParce qu’il y a autant de sorcières que de féminismes\,\nParce que les rencontres IRL sont riches et qu’on aime les bouquins\,\nParce que Mona Chollet et son livre “Sorcières: la puissance invaincue des femmes » nous avait suffisamment inspiré.e.s pour que l’on se rencontre une première fois au Rita.\nParce qu’il y a plein de trucs qui ont fait écho et qu’on a vraiment envie de continuer à discuter\, à déchiffrer et à avancer ensemble sur tout ce qui touche de près ou de loin aux figures historiques et contemporaines des sorcières: le soin\, le corps\, les rapports sociaux\, culturels\, politiques\, économiques etc…\nParce que les mots “safe” et “bienveillant” ne veulent plus rien dire\, mais qu’on lâche pas l’affaire. Nous avons choisi d’être en mixité ~respectueuse~ c’est à dire ouvert à toutes et tous avec priorité de parole aux personnes concernées. \nEnfin\, parce qu’on a pas le temps ni l’argent de tout lire\, pas d’obligation de lecture avant de venir !
URL:https://villemorte.fr/agenda/club-des-grimoires-8/
LOCATION:Sales gosses Ink & more\, 11 rue de la vieille\, LYON\, 69001
CATEGORIES:club de lecture
END:VEVENT
END:VCALENDAR