BEGIN:VCALENDAR
VERSION:2.0
PRODID:-//Ville Morte - ECPv5.12.4//NONSGML v1.0//EN
CALSCALE:GREGORIAN
METHOD:PUBLISH
X-WR-CALNAME:Ville Morte
X-ORIGINAL-URL:https://villemorte.fr
X-WR-CALDESC:évènements pour Ville Morte
BEGIN:VTIMEZONE
TZID:Europe/Paris
BEGIN:DAYLIGHT
TZOFFSETFROM:+0100
TZOFFSETTO:+0200
TZNAME:CEST
DTSTART:20170326T010000
END:DAYLIGHT
BEGIN:STANDARD
TZOFFSETFROM:+0200
TZOFFSETTO:+0100
TZNAME:CET
DTSTART:20171029T010000
END:STANDARD
END:VTIMEZONE
BEGIN:VEVENT
DTSTART;TZID=Europe/Paris:20171217T203000
DTEND;TZID=Europe/Paris:20171217T203000
DTSTAMP:20260422T175956
CREATED:20171104T215049Z
LAST-MODIFIED:20171130T204533Z
UID:4653-1513542600-1513542600@villemorte.fr
SUMMARY:Coilguns + Dead Kiwis
DESCRIPTION:Le souffle de la fureur dans tes cheveux fais de feu ?\nAllez.\n \n\n\nPar la trop trop forte Mayoreck http://mayoreck.tumblr.com/ \nBiographies factuelles : \nCOILGUNS (D-Beat etc de Suisse)\nhttps://coilguns.bandcamp.com/ \n  \n\n« Coilguns c’est l’apologie du DIY 2.0 depuis 2011 lorsque le groupe se forme par accident avec l’envie de jouer de la musique rapide et bête. Une année après sa création\, le trio devient une des activités principales de Louis Jucker\, Jona Nido et Luc Hess. Les trois Suisses\, hyperactifs à travers plusieurs projets aussi nombreux que variés (The Ocean\, Schwarz\, The Fawn\, Kunz\, Closet Disco Queen…) créent en 2012 dans la foulée de Coilguns leur propre label – Hummus Records – qui a vu jusqu’en 2017 plus de cinquante sorties. »\n\n  \nDEAD KIWIS (Mathcore unicorn de Lyon)\nhttps://deadkiwis.bandcamp.com/ \n  \n\n« L’abnégation\, la subversion\, l’éco-partage\, le tricot\, la cacographie\, l’acrimonie\, la musophobie\, les chiens\, la diacritique\, le palimpseste\, l’homographie\, la circonférence\, l’inertie\, l’apopathodiaphulatophobie\, la glycosylphosphatidyléthanolamine\, l’hexakosioihexekontahexaphobique\, et le chlorure d’aminométhylpyrimidinylhydroxyéthylméthythiazolium. »\n\n  \nEn gros ça va taper.\nAmités\, les Evadées \nLe Farmer\, 14 Montée des Carmélites LYON01\n17 Décembre 17 / 20H / Prix Libre\nGrignotage végane et affiches sérigraphiées à prix libre
URL:https://villemorte.fr/agenda/coilguns-dead-kiwis/
LOCATION:Le Farmer\, 14 montée des Carmélites\, Lyon\, France
CATEGORIES:musique live
ATTACH;FMTTYPE=image/jpeg:https://villemorte.fr/wp-content/uploads/2017/11/24129910_306455979854560_9201499892280626065_n.jpg
END:VEVENT
END:VCALENDAR