BEGIN:VCALENDAR
VERSION:2.0
PRODID:-//Ville Morte - ECPv5.12.4//NONSGML v1.0//EN
CALSCALE:GREGORIAN
METHOD:PUBLISH
X-WR-CALNAME:Ville Morte
X-ORIGINAL-URL:https://villemorte.fr
X-WR-CALDESC:évènements pour Ville Morte
BEGIN:VTIMEZONE
TZID:Europe/Paris
BEGIN:DAYLIGHT
TZOFFSETFROM:+0100
TZOFFSETTO:+0200
TZNAME:CEST
DTSTART:20210328T010000
END:DAYLIGHT
BEGIN:STANDARD
TZOFFSETFROM:+0200
TZOFFSETTO:+0100
TZNAME:CET
DTSTART:20211031T010000
END:STANDARD
END:VTIMEZONE
BEGIN:VEVENT
DTSTART;TZID=Europe/Paris:20211209T200000
DTEND;TZID=Europe/Paris:20211209T200000
DTSTAMP:20260424T011422
CREATED:20211204T111521Z
LAST-MODIFIED:20211204T112623Z
UID:14356-1639080000-1639080000@villemorte.fr
SUMMARY:conf de conf
DESCRIPTION:jeudi 9 décembre conf de conf\n(conférence sur l’absurde)\n20h / prix libre / no CB\nVous vous posez des questions sur le passé\, le présent et l’avenir ? Qui suis je ? où vais je ?\nAssister à la Conf de Conf n’est pas là pour répondre à ces questions mais vous éloignera de vos pensées négatives pendant une vingtaine de minutes.\nNadine Marinière et Emilie Jambon\, chercheuses à la Conférence League\, docteures en communication superficiel  vous dévoileront l’origine\, la genèse de la conférence\, où va t’elle\, que fais t’elle\, et pourquoi ? Voilà une bonne manière de reprendre les rênes de sa vie et d’attiser sa curiosité avec une conférence accessible et vivante et ainsi\, briller en société.\n\n\nZaouech Corner\n26 rue Imbert Colomes Lyon 1er\nplus d’infos et résa @catalyse0000001@gmail.com
URL:https://villemorte.fr/agenda/conf-de-conf/
LOCATION:Zaouech Corner\, 26 Rue Imbert Colomès\, Lyon\, 69001
CATEGORIES:conférence
END:VEVENT
END:VCALENDAR