BEGIN:VCALENDAR
VERSION:2.0
PRODID:-//Ville Morte - ECPv5.12.4//NONSGML v1.0//EN
CALSCALE:GREGORIAN
METHOD:PUBLISH
X-WR-CALNAME:Ville Morte
X-ORIGINAL-URL:https://villemorte.fr
X-WR-CALDESC:évènements pour Ville Morte
BEGIN:VTIMEZONE
TZID:Europe/Paris
BEGIN:DAYLIGHT
TZOFFSETFROM:+0100
TZOFFSETTO:+0200
TZNAME:CEST
DTSTART:20250330T010000
END:DAYLIGHT
BEGIN:STANDARD
TZOFFSETFROM:+0200
TZOFFSETTO:+0100
TZNAME:CET
DTSTART:20251026T010000
END:STANDARD
END:VTIMEZONE
BEGIN:VEVENT
DTSTART;TZID=Europe/Paris:20250125T160000
DTEND;TZID=Europe/Paris:20250125T180000
DTSTAMP:20260423T100519
CREATED:20241225T165742Z
LAST-MODIFIED:20241225T165742Z
UID:27017-1737820800-1737828000@villemorte.fr
SUMMARY:Conférence/Débat « Échec de la transition politique au Maroc »
DESCRIPTION:25/01 – 16h—18h \nConférence/Débat « Échec de la transition politique au Maroc » par Fouad Abdelmoumen avec le FORSEM\nPrix libre
URL:https://villemorte.fr/agenda/conference-debat-echec-de-la-transition-politique-au-maroc/
LOCATION:Maison de l’écologie\, 4 rue Bodin\, LYON\, 69001
CATEGORIES:conférence,débat
END:VEVENT
END:VCALENDAR