BEGIN:VCALENDAR
VERSION:2.0
PRODID:-//Ville Morte - ECPv5.12.4//NONSGML v1.0//EN
CALSCALE:GREGORIAN
METHOD:PUBLISH
X-WR-CALNAME:Ville Morte
X-ORIGINAL-URL:https://villemorte.fr
X-WR-CALDESC:évènements pour Ville Morte
BEGIN:VTIMEZONE
TZID:Europe/Paris
BEGIN:DAYLIGHT
TZOFFSETFROM:+0100
TZOFFSETTO:+0200
TZNAME:CEST
DTSTART:20180325T010000
END:DAYLIGHT
BEGIN:STANDARD
TZOFFSETFROM:+0200
TZOFFSETTO:+0100
TZNAME:CET
DTSTART:20181028T010000
END:STANDARD
END:VTIMEZONE
BEGIN:VEVENT
DTSTART;TZID=Europe/Paris:20181219T190000
DTEND;TZID=Europe/Paris:20181219T190000
DTSTAMP:20260419T163831
CREATED:20181124T011001Z
LAST-MODIFIED:20181124T011001Z
UID:7773-1545246000-1545246000@villemorte.fr
SUMMARY:CONFERENCE "MUSIQUES ET SOCIETE"
DESCRIPTION:19/12 CONFERENCE « MUSIQUES ET SOCIETE »  Gratuit \nCycles de conférences en partenariat avec l’UNIPOP.  \nAttention\, contrairement à ce qui a été précedemment indiqué\, la conférence se tiendra à 19h et non 20h30 \nMUSIQUE ET SOCIÉTÉ \nCe cycle a la particularité d’être tourné vers l’histoire de la musique du XXe siècle (chronologie\, acteurs majeurs\, étude des grands mouvements musicaux) et d’en proposer une perspective originale notamment par l’entremise de la philosophie et des sciences sociales. Nous pourrons\, par exemple\, nous interroger sur l’interculturalité qui préside à la naissance des musiques populaires ou encore tenter de comprendre ce qui explique l’omniprésence de la musique sur Terre. \n  \nMERCREDI 21/11\n19h – CONFÉRENCE D’ELOI FÉTUS\nL’interculturalité hispanique : sous les pavés\, les gitans \nMERCREDI 19/12\n19h – CONFÉRENCE D’ELOI FÉTUS\nL’interculturalité US : Existe-t-il une musique américaine ? \nUniversité Populaire de Lyon \nL’université Populaire de Lyon occupe une place toute particulière dans le projet du Périscope. Par la transmission des savoirs et le partage des connaissances\, cette association remplit des missions d’éducation populaire. L’Unipop aborde des thèmes relevant des sciences politiques\, de la littérature\, de la philosophie\, de la psychologie ou encore des sciences dites « dures ».
URL:https://villemorte.fr/agenda/conference-musiques-et-societe/
LOCATION:Périscope\, 13 rue Delandine\, Lyon\, 69002\, France
CATEGORIES:conférence
END:VEVENT
END:VCALENDAR