BEGIN:VCALENDAR
VERSION:2.0
PRODID:-//Ville Morte - ECPv5.12.4//NONSGML v1.0//EN
CALSCALE:GREGORIAN
METHOD:PUBLISH
X-WR-CALNAME:Ville Morte
X-ORIGINAL-URL:https://villemorte.fr
X-WR-CALDESC:évènements pour Ville Morte
BEGIN:VTIMEZONE
TZID:Europe/Paris
BEGIN:DAYLIGHT
TZOFFSETFROM:+0100
TZOFFSETTO:+0200
TZNAME:CEST
DTSTART:20180325T010000
END:DAYLIGHT
BEGIN:STANDARD
TZOFFSETFROM:+0200
TZOFFSETTO:+0100
TZNAME:CET
DTSTART:20181028T010000
END:STANDARD
END:VTIMEZONE
BEGIN:VEVENT
DTSTART;TZID=Europe/Paris:20181130T203000
DTEND;TZID=Europe/Paris:20181130T203000
DTSTAMP:20260419T171546
CREATED:20181123T120319Z
LAST-MODIFIED:20181128T111004Z
UID:7661-1543609800-1543609800@villemorte.fr
SUMMARY:Cooper + Les Mauvais Garçons  + Sweet Vicious
DESCRIPTION:Cooper The Band (NL)\nLes Mauvais Garçons (Lyon)\nSweet Vicious (Lyon)
URL:https://villemorte.fr/agenda/cooper-les-mauvais-garcons-sweet-vicious/
LOCATION:Warmaudio\, 29 Rue Wilson\, Décines-Charpieu\, 69150\, France Métropolitaine
CATEGORIES:musique live
ATTACH;FMTTYPE=image/jpeg:https://villemorte.fr/wp-content/uploads/2018/11/46479298_1156634734494697_5602682226568331264_n.jpg
END:VEVENT
END:VCALENDAR