BEGIN:VCALENDAR
VERSION:2.0
PRODID:-//Ville Morte - ECPv5.12.4//NONSGML v1.0//EN
CALSCALE:GREGORIAN
METHOD:PUBLISH
X-WR-CALNAME:Ville Morte
X-ORIGINAL-URL:https://villemorte.fr
X-WR-CALDESC:évènements pour Ville Morte
BEGIN:VTIMEZONE
TZID:Europe/Paris
BEGIN:DAYLIGHT
TZOFFSETFROM:+0100
TZOFFSETTO:+0200
TZNAME:CEST
DTSTART:20240331T010000
END:DAYLIGHT
BEGIN:STANDARD
TZOFFSETFROM:+0200
TZOFFSETTO:+0100
TZNAME:CET
DTSTART:20241027T010000
END:STANDARD
END:VTIMEZONE
BEGIN:VEVENT
DTSTART;TZID=Europe/Paris:20240506T190000
DTEND;TZID=Europe/Paris:20240506T190000
DTSTAMP:20260420T031834
CREATED:20240410T204217Z
LAST-MODIFIED:20240410T204217Z
UID:23963-1715022000-1715022000@villemorte.fr
SUMMARY:Crypta + Nakkeknaekker + Plaguemace
DESCRIPTION:CRYPTA – Death Metal – Brésil\n\nFormé en juin 2019\, le quartet est constitué de Fernanda Lira au chant et à la basse\, de Luana Dametto à la batterie (toutes deux anciennes membres du groupe de Thrash NERVOSA)\, ainsi que des talentueuses guitaristes Jéssica di Falchi et Tainá Bergamaschi (Ex-HAGBARD). Elles rassemblent une grande expérience issue de leurs projets passés et actuels\, mettant en valeur des influences provenant du Death Metal aussi bien classique que moderne ainsi que des éléments Black Metal et Metal Extrême\, pour créer un son qui leur est propre. Après un premier album sorti en 2021\, CRYPTA a sorti en août 2023 son second album “Shades Of Sorrow” chez Napalm Records. \n \n\nNAKKEKNAEKKER – Death Metal – Danemark\n\n \n\nPLAGUEMACE – Death Metal – Danemark
URL:https://villemorte.fr/agenda/crypta-nakkeknaekker-plaguemace/
LOCATION:Rock n Eat\, 32 Quai Arloing\, Lyon\, 69009
CATEGORIES:musique live
END:VEVENT
END:VCALENDAR