BEGIN:VCALENDAR
VERSION:2.0
PRODID:-//Ville Morte - ECPv5.12.4//NONSGML v1.0//EN
CALSCALE:GREGORIAN
METHOD:PUBLISH
X-WR-CALNAME:Ville Morte
X-ORIGINAL-URL:https://villemorte.fr
X-WR-CALDESC:évènements pour Ville Morte
BEGIN:VTIMEZONE
TZID:Europe/Paris
BEGIN:DAYLIGHT
TZOFFSETFROM:+0100
TZOFFSETTO:+0200
TZNAME:CEST
DTSTART:20190331T010000
END:DAYLIGHT
BEGIN:STANDARD
TZOFFSETFROM:+0200
TZOFFSETTO:+0100
TZNAME:CET
DTSTART:20191027T010000
END:STANDARD
END:VTIMEZONE
BEGIN:VEVENT
DTSTART;TZID=Europe/Paris:20191130T190000
DTEND;TZID=Europe/Paris:20191130T190000
DTSTAMP:20260425T043114
CREATED:20191118T145709Z
LAST-MODIFIED:20191118T145709Z
UID:11241-1575140400-1575140400@villemorte.fr
SUMMARY:Cuba mi amor !
DESCRIPTION:La Havane arrive à son demi-millénaire et ça se fête comme il se mérite !! Avec de la musique\, de l’art\, et du rhum !!. \nAu programme:\nExpo photos:  » Regards ».\nExpo affiches de cinéma cubain\, des œuvres d’art à part entières nées à la Havane ! \n19h30 : Projection Documentaires:  » Deux Regards sur la Havane ». \n21h : Concert-Conté- illustré\, avec la participation de talentueux musiciens lyonnais passionnés de musique cubaine:\nBaptiste Romano\, (chant yoruba-percusion) Didier Llaurencin\, (Tres-chant) Juan Carlos Benitez (guitare-chant) Antonin Cognet (piano)\, et Mercedes Alfonso (conte-chant) \nA partir de 22h : Clôture de Soirée avec des DJ plein d’avenir !! Salsa\, Son\, Timba\, Cumbia\, Bachata\, \nmusica y cervezas et bien sûr du rhum et du riz-congris ! \nPrix Libre. \nVengan Al Paso como dicen los Van Van ! A celebrar la ciudad de las columnas !.\nGrand merci à Yvette Guevara pour l’affiche et le soutien!.
URL:https://villemorte.fr/agenda/cuba-mi-amor/
LOCATION:L’Atelier des Canulars\, 91 rue Montesquieu\, LYON\, 69007
CATEGORIES:exposition,musique live,projection
END:VEVENT
END:VCALENDAR