BEGIN:VCALENDAR
VERSION:2.0
PRODID:-//Ville Morte - ECPv5.12.4//NONSGML v1.0//EN
CALSCALE:GREGORIAN
METHOD:PUBLISH
X-WR-CALNAME:Ville Morte
X-ORIGINAL-URL:https://villemorte.fr
X-WR-CALDESC:évènements pour Ville Morte
BEGIN:VTIMEZONE
TZID:Europe/Paris
BEGIN:DAYLIGHT
TZOFFSETFROM:+0100
TZOFFSETTO:+0200
TZNAME:CEST
DTSTART:20180325T010000
END:DAYLIGHT
BEGIN:STANDARD
TZOFFSETFROM:+0200
TZOFFSETTO:+0100
TZNAME:CET
DTSTART:20181028T010000
END:STANDARD
END:VTIMEZONE
BEGIN:VEVENT
DTSTART;TZID=Europe/Paris:20180503T203000
DTEND;TZID=Europe/Paris:20180503T203000
DTSTAMP:20260422T125520
CREATED:20180422T211538Z
LAST-MODIFIED:20180422T211538Z
UID:6233-1525379400-1525379400@villemorte.fr
SUMMARY:Cycle : Rain Sultanov & Isfar Sarabski [HS#1]
DESCRIPTION:03/05 Cycle : Rain Sultanov & Isfar Sarabski [HS#1] (8/10€) Hors série @ Arta Sacra – Festival d’Arts Sacrés \nEvénement Hors série #1 d’Arta Sacra – Festival d’Arts Sacrés ! \nA la croisée des musiques sacrées\, du jazz et de la musique classique\, le jeune mais mondialement célèbre pianiste Isfar Sarabski prend place derrière l’orgue\, accompagné par le saxophone de Rain Sultanov\, éminente figure de la scène musicale d’Azerbaïdjan.\nDe la rencontre de ces instruments et de leurs univers nait un dialogue onirique\, une expérience musicale qui ne se jouera qu’une seule fois en France pour la sortie de l’album « Cycle ». \n★ Vidéo : https://goo.gl/Co5Ftc\n★ Entrée : 10€ / 8€ réduit \n——————RAIN SULTANOV & ISFAR SARABSKI——————\nRain Sultanov (saxophone)\, figure emblématique du développement du jazz en Azerbaïdjan\, est aujourd’hui devenu directeur du festival de Jazz de Baku. Sa complicité musicale avec le célèbre Isfar Sarabski (orgue\, piano) les ont menés à enfanter un projet musical que l’on ne saurait étiqueter dans le jazz ou la musique classique.\nSeule l’écoute permettra de méditer sur la question. \n——————THE CYCLE——————\n« The Cycle » n’est pas un simple projet musical. C’est le tandem créatif de deux musiciens – Rain Sultanov & Isfar Sarabski (Azerbaidjian) – qui ont échangé leurs compositions pour créer dans une seule et même énergie. Trois instruments mêlés par magie en une seule voix : l’orgue\, le piano et le saxophone.\nEn parfaite harmonie acoustique\, chaque instrument apporte sa philosophie : la divinité par l’orgue\, l’émotion du saxophone et l’évolution grâce au piano. […]\nPlus d’infos & vidéos (anglais) : https://goo.gl/WLUpb8 \n★ Billetterie : https://goo.gl/G2yJ6n\nOu en magasin Fnac – Carrefour – U – Intermarché et Fnac.com \nACCES :\nMétro A ou Tram – Vaulx-En-Velin La Soie\nGrand parking voiture sur place
URL:https://villemorte.fr/agenda/cycle-rain-sultanov-isfar-sarabski-hs1/
LOCATION:Espace Protestant Théodore Monod\, 22 Rue Romain Rolland\, Vaulx-en-Velin\, 69120
CATEGORIES:musique live
END:VEVENT
END:VCALENDAR