BEGIN:VCALENDAR
VERSION:2.0
PRODID:-//Ville Morte - ECPv5.12.4//NONSGML v1.0//EN
CALSCALE:GREGORIAN
METHOD:PUBLISH
X-WR-CALNAME:Ville Morte
X-ORIGINAL-URL:https://villemorte.fr
X-WR-CALDESC:évènements pour Ville Morte
BEGIN:VTIMEZONE
TZID:Europe/Paris
BEGIN:DAYLIGHT
TZOFFSETFROM:+0100
TZOFFSETTO:+0200
TZNAME:CEST
DTSTART:20190331T010000
END:DAYLIGHT
BEGIN:STANDARD
TZOFFSETFROM:+0200
TZOFFSETTO:+0100
TZNAME:CET
DTSTART:20191027T010000
END:STANDARD
END:VTIMEZONE
BEGIN:VEVENT
DTSTART;TZID=Europe/Paris:20190913T200000
DTEND;TZID=Europe/Paris:20190913T200000
DTSTAMP:20260425T123639
CREATED:20190820T073232Z
LAST-MODIFIED:20190829T143230Z
UID:10027-1568404800-1568404800@villemorte.fr
SUMMARY:Damien Sabatier + Might Brank
DESCRIPTION:Vendredi 13/09 : Damien Sabatier + Might Brank  @ BIMBO \n  \nSOIREE MUSICALE DE BELLES MUSIQUE EN SOLO avec \nMIGHT BRANK\nsolo de batterie et de sons de Emmanuel Scarpa\,\nMight brank c’est un coup d’épée zen du rock expé cosmique et de détente.\nhttp://www.emmanuelscarpa.com/_might%20brank \nDAMIEN SABATIER\nDamien est saxophoniste\, vous l’avez déjà rencontré peut-être dans IMPERIAL QUARTET et ses déclinaisons ou encore dans Marteau Matraque où il joue du saxophone baryton.\nLà ce sera plus intimiste et encore mais toujours est-il qu’il y aura des ritournelles qui marquera les esprits.\nPas de sons\, ni vidéo\, à vivre donc viens!
URL:https://villemorte.fr/agenda/damien-sabatier-might-brank-johann-maze-solo/
LOCATION:BIMBO\, 60 rue Salomon Reinach\, LYON\, 69007
CATEGORIES:musique live
ATTACH;FMTTYPE=image/jpeg:https://villemorte.fr/wp-content/uploads/2019/08/69232023_2964688046881599_3580621622295396352_o.jpg
END:VEVENT
END:VCALENDAR