BEGIN:VCALENDAR
VERSION:2.0
PRODID:-//Ville Morte - ECPv5.12.4//NONSGML v1.0//EN
CALSCALE:GREGORIAN
METHOD:PUBLISH
X-WR-CALNAME:Ville Morte
X-ORIGINAL-URL:https://villemorte.fr
X-WR-CALDESC:évènements pour Ville Morte
BEGIN:VTIMEZONE
TZID:Europe/Paris
BEGIN:DAYLIGHT
TZOFFSETFROM:+0100
TZOFFSETTO:+0200
TZNAME:CEST
DTSTART:20220327T010000
END:DAYLIGHT
BEGIN:STANDARD
TZOFFSETFROM:+0200
TZOFFSETTO:+0100
TZNAME:CET
DTSTART:20221030T010000
END:STANDARD
END:VTIMEZONE
BEGIN:VEVENT
DTSTART;TZID=Europe/Paris:20220308T183000
DTEND;TZID=Europe/Paris:20220308T183000
DTSTAMP:20260425T201249
CREATED:20220208T212052Z
LAST-MODIFIED:20220208T212052Z
UID:14567-1646764200-1646764200@villemorte.fr
SUMMARY:Day Off #33  : After Geography
DESCRIPTION:mardi 8 mars\n18h30\nSol FM et Marché Gare présentent \nDAY OFF #33\n  \nDepuis plus de 30 ans\, SOL FM soutient les artistes émergents et intervient sur le secteur pour faire vivre les cultures alternatives ainsi que la diversité musicale et culturelle. Une vocation qui a mené la radio à travailler à de nombreuses reprises avec le Marché Gare\, salle de concerts et de résidences en faveur des musiques actuelles de caractère. Ainsi depuis plusieurs années\, les deux acteurs s’unissent autour de Day Off – Le Concert à la radio.  Retrouvez les artistes soutenus par le Marché Gare en direct dans “Day Off” sur SOL FM sous une formule rencontre\, interview + concert. \n\nAFTER GEOGRAPHY (Pop-Rock / Lyon)\n  \n\nJulien et Nicolas sont des ogres. Ils ont su digérer des décennies d’influences musicales et nous les resservir de manière intemporelle\, avec une classe rare ; un travail déjà commencé dans The Socks puis Sunder\, leurs formations précédentes qui avaient laissé leur empreinte dans le paysage musical lyonnais. \nDans la plus pure tradition des binômes qui ont jalonné l’histoire du rock et de la pop\, After Geography -rejoint sur scène par une solide section rythmique- produit une musique classieuse\, additionnant les clins d’oeil aux plus grands : les Beatles\, le glam de Bowie mais aussi la brit-pop des 90’s. \nAvant de partir sur les routes françaises pour promouvoir son premier EP\, le groupe fera une halte dans les studios de Sol FM pour le Day Off. \n\n  \nRENDEZ-VOUS A 18H30 SUR LE 100.7 FM OU SUR sol-fm.fr ET EN FACEBOOK LIVE !
URL:https://villemorte.fr/agenda/day-off-33-after-geography/
CATEGORIES:radio
END:VEVENT
END:VCALENDAR