BEGIN:VCALENDAR
VERSION:2.0
PRODID:-//Ville Morte - ECPv5.12.4//NONSGML v1.0//EN
CALSCALE:GREGORIAN
METHOD:PUBLISH
X-WR-CALNAME:Ville Morte
X-ORIGINAL-URL:https://villemorte.fr
X-WR-CALDESC:évènements pour Ville Morte
BEGIN:VTIMEZONE
TZID:Europe/Paris
BEGIN:DAYLIGHT
TZOFFSETFROM:+0100
TZOFFSETTO:+0200
TZNAME:CEST
DTSTART:20230326T010000
END:DAYLIGHT
BEGIN:STANDARD
TZOFFSETFROM:+0200
TZOFFSETTO:+0100
TZNAME:CET
DTSTART:20231029T010000
END:STANDARD
END:VTIMEZONE
BEGIN:VEVENT
DTSTART;TZID=Europe/Paris:20231006T190000
DTEND;TZID=Europe/Paris:20231006T190000
DTSTAMP:20260424T133333
CREATED:20230720T192147Z
LAST-MODIFIED:20230720T192147Z
UID:20093-1696618800-1696618800@villemorte.fr
SUMMARY:Derek Gripper & Ballaké Sissoko
DESCRIPTION:19 octobre 2022 : le Sud-Africain Derek Gripper se présente à l’Amphi\, guitare classique à la main. Très vite\, on comprend\, subjugué\, qu’elle est pour lui plus qu’un instrument : c’est un outil de traduction universelle\, un sésame lui permettant de relier Bach\, Arvo Pärt\, le Brésil ou encore les pièces pour kora du Malien Toumani Diabaté – dont Gripper est le génial transcripteur. Un an plus tard\, le voici de retour à l’OU pour un lumineux dialogue avec Ballaké Sissoko\, autre géant de la harpe-luth mandingue. C’est sur scène\, justement\, que ces deux-là se sont rencontrés\, déjouant par leur science poétique et musicale la barrière linguistique censée les séparer\, s’appuyant sur leurs héritages pour mieux larguer les amarres. Avec eux\, l’art de la conversation devient liberté en acte – un art qu’étofferont les jeunes musiciens du Quatuor Una Corda\, invités à les rejoindre sur quelques titres.
URL:https://villemorte.fr/agenda/derek-gripper-ballake-sissoko/
LOCATION:Opéra Underground\, 1 place de la comédie\, lyon\, 69001
CATEGORIES:musique live
END:VEVENT
END:VCALENDAR