BEGIN:VCALENDAR
VERSION:2.0
PRODID:-//Ville Morte - ECPv5.12.4//NONSGML v1.0//EN
CALSCALE:GREGORIAN
METHOD:PUBLISH
X-WR-CALNAME:Ville Morte
X-ORIGINAL-URL:https://villemorte.fr
X-WR-CALDESC:évènements pour Ville Morte
BEGIN:VTIMEZONE
TZID:Europe/Paris
BEGIN:DAYLIGHT
TZOFFSETFROM:+0100
TZOFFSETTO:+0200
TZNAME:CEST
DTSTART:20240331T010000
END:DAYLIGHT
BEGIN:STANDARD
TZOFFSETFROM:+0200
TZOFFSETTO:+0100
TZNAME:CET
DTSTART:20241027T010000
END:STANDARD
END:VTIMEZONE
BEGIN:VEVENT
DTSTART;TZID=Europe/Paris:20240207T210000
DTEND;TZID=Europe/Paris:20240207T210000
DTSTAMP:20260419T235210
CREATED:20240117T155301Z
LAST-MODIFIED:20240117T155301Z
UID:22525-1707339600-1707339600@villemorte.fr
SUMMARY:Derya Yıldırım & Grup Şimşek
DESCRIPTION:Derya Yıldırım et Grup Şimşek nous revient avec son troisième album “Dost 2”\, deuxième partie du très acclamé Dost 1 paru en 2021. Cette sortie de huit titres voit la chanteuse turque\, joueuse de bağlama et multi-instrumentiste Derya Yıldırım et son groupe international de frères et sœurs poursuivre leur voyage psychédélique\, serpentant à travers la musique et la poésie folkloriques anatoliennes avec leurs grooves électrisants\, tout en se plongeant dans leurs propres vies et expériences personnelles. \nBien qu’enraciné dans la tradition anatolienne\, le Grup Şimşek puise dans un cosmos de sons illimité et s’appuie sur la contribution de chaque membre du groupe. \n\nDerya Yıldırım & Grup Şimşek\n\nAvec des origines de Turquie\, Allemagne\, France\, Grande-Bretagne\, Suède et Italie\, les membres du Grup Şimşek (prononcez « Chimchek ») s’inscrivent dans la génération sans frontières que certains qualifieront d’”Outernational”.\nNé en 2014\, et fort de deux albums et d’un EP\, le groupe s’est forgé une formidable réputation grâce à son mélange entêtant de folk anatolien\, de rock turc des années 1970\, de psychédélisme\, de pop et de jazz. Sur Dost 2\, de nouvelles interprétations de classiques turcs et des compositions originales du groupe sont harmonieusement liées par des arrangements inventifs et des grooves envoûtants\, transcendant le temps\, le passé et le présent se heurtant l’espace d’une chanson.
URL:https://villemorte.fr/agenda/derya-yildirim-grup-simsek-4/
LOCATION:Périscope\, 13 rue Delandine\, Lyon\, 69002\, France
CATEGORIES:musique live
END:VEVENT
END:VCALENDAR