BEGIN:VCALENDAR
VERSION:2.0
PRODID:-//Ville Morte - ECPv5.12.4//NONSGML v1.0//EN
CALSCALE:GREGORIAN
METHOD:PUBLISH
X-WR-CALNAME:Ville Morte
X-ORIGINAL-URL:https://villemorte.fr
X-WR-CALDESC:évènements pour Ville Morte
BEGIN:VTIMEZONE
TZID:Europe/Paris
BEGIN:DAYLIGHT
TZOFFSETFROM:+0100
TZOFFSETTO:+0200
TZNAME:CEST
DTSTART:20220327T010000
END:DAYLIGHT
BEGIN:STANDARD
TZOFFSETFROM:+0200
TZOFFSETTO:+0100
TZNAME:CET
DTSTART:20221030T010000
END:STANDARD
END:VTIMEZONE
BEGIN:VEVENT
DTSTART;TZID=Europe/Paris:20220325T190000
DTEND;TZID=Europe/Paris:20220325T190000
DTSTAMP:20260424T014207
CREATED:20220213T123938Z
LAST-MODIFIED:20220213T123938Z
UID:14754-1648234800-1648234800@villemorte.fr
SUMMARY:Di-Meh
DESCRIPTION:Di-Meh\, skateur devenu rappeur\, a grandi entre le Maroc et la Suisse.\nC’est avec le collectif de MCs genevois\, 13 Sarkastick\, dont il a été membre de 2011 et 2016\, que Di-Meh commence à rapper. La rencontre avec le rappeur parisien Népal a été déterminante dans sa carrière : de leur collaboration au sein du groupuscule musical 75ème session\, naît le titre\, en 2015\, Fu gee la qui le place comme nouvelle figure dans la scène rap francophone.\nAvec le label indépendant genevois Colors\, Di-Meh sort en 2017 le très remarqué Focus vol.1 et participe à la trentaine de concerts de l’Xtrem tour\, en 2017\, en partageant la scène avec Makala et Slimka.\n2019 sera une année déterminante pour Di-Meh : il enchaîne\, deux ans après la sortie du vol.1\, avec le Focus vol.2\, toujours avec le label Colors\, et fait une prestation très remarquée sur Skyrock dans la session légendaire de Lomepal pour Planète Rap. Il fera\, la même année\, la tournée des Zéniths pour les premières parties de ce dernier\, mais aussi celles des Bercy d’Orelsan.\nIl sera affublé du titre de “la révélation de l’année” sur la couverture des Inrocks\, toujours en 2019\, l’année de la sortie de sa mixtape Fake Love\, la dernière sortie chez Colors\, avant de retourner dans les studios pour deux ans de travail en production indépendante.\n\nRigoureux\, depuis 10 ans\, Di-Meh a sorti un projet tous les 10 mai.\n\nC’est donc\, naturellement\, qu’il annonce la sortie de son premier album en mai prochain.  \nL’album Mektoub (destin en langue arabe) parle de la nostalgie\, du quotidien et des connexions faites dans notre monde\, si petit. Un mélange des genres cosmopolites pour ne pas se mettre de barrière\, donc\, provoquer son destin. \n\n\n\n\n\n\n\n\n\n\n\n\n\n\n⚠️ L’entrée est conditionnée au pass vaccinal. Si vous ne pouvez pas présenter de QR code valide\, l’entrée vous sera refusée et vous ne serez pas remboursé·e.
URL:https://villemorte.fr/agenda/di-meh/
LOCATION:Le Sucre\, 50 quai Rambaud\, Lyon\, 69002
CATEGORIES:musique live
END:VEVENT
END:VCALENDAR