BEGIN:VCALENDAR
VERSION:2.0
PRODID:-//Ville Morte - ECPv5.12.4//NONSGML v1.0//EN
CALSCALE:GREGORIAN
METHOD:PUBLISH
X-WR-CALNAME:Ville Morte
X-ORIGINAL-URL:https://villemorte.fr
X-WR-CALDESC:évènements pour Ville Morte
BEGIN:VTIMEZONE
TZID:Europe/Paris
BEGIN:DAYLIGHT
TZOFFSETFROM:+0100
TZOFFSETTO:+0200
TZNAME:CEST
DTSTART:20220327T010000
END:DAYLIGHT
BEGIN:STANDARD
TZOFFSETFROM:+0200
TZOFFSETTO:+0100
TZNAME:CET
DTSTART:20221030T010000
END:STANDARD
END:VTIMEZONE
BEGIN:VEVENT
DTSTART;TZID=Europe/Paris:20220324T210000
DTEND;TZID=Europe/Paris:20220324T210000
DTSTAMP:20260424T011551
CREATED:20220321T211526Z
LAST-MODIFIED:20220321T211526Z
UID:15258-1648155600-1648155600@villemorte.fr
SUMMARY:Disco House Session on the deck
DESCRIPTION:
URL:https://villemorte.fr/agenda/disco-house-session-on-the-deck/
LOCATION:péniche Loupika\, 47 Quai Rambaud\, LYON\, 69002
CATEGORIES:DJ Set
END:VEVENT
END:VCALENDAR