BEGIN:VCALENDAR
VERSION:2.0
PRODID:-//Ville Morte - ECPv5.12.4//NONSGML v1.0//EN
CALSCALE:GREGORIAN
METHOD:PUBLISH
X-WR-CALNAME:Ville Morte
X-ORIGINAL-URL:https://villemorte.fr
X-WR-CALDESC:évènements pour Ville Morte
BEGIN:VTIMEZONE
TZID:Europe/Paris
BEGIN:DAYLIGHT
TZOFFSETFROM:+0100
TZOFFSETTO:+0200
TZNAME:CEST
DTSTART:20230326T010000
END:DAYLIGHT
BEGIN:STANDARD
TZOFFSETFROM:+0200
TZOFFSETTO:+0100
TZNAME:CET
DTSTART:20231029T010000
END:STANDARD
END:VTIMEZONE
BEGIN:VEVENT
DTSTART;TZID=Europe/Paris:20230401T170000
DTEND;TZID=Europe/Paris:20230401T170000
DTSTAMP:20260425T230954
CREATED:20230321T134315Z
LAST-MODIFIED:20230321T134315Z
UID:18942-1680368400-1680368400@villemorte.fr
SUMMARY:Disco Patio
DESCRIPTION:DISCO PATIO IS BACK 🥀\n>\n> Un “rendez-vous”\, qui regroupe amis et passionnés autour d’un spectre\n> sonore radical et encore trop peu représenté ; EBM\, NEW BEAT\, ELECTRO\,\n> SYNTH MUSIC\, ITALO & DARK DISCO\n>\n> 🎟 Tickets : bit.ly/3l88NmR\n> 🌀 Événement Intimiste de 17:00 à minuit\n> ⚠️ Capacité limitée (300 personnes)\n> 📍 Accessible TCL environ 15 minutes depuis Bellecour\n> 🔊 Void Acoustic\n> 🎵 Line up : Brandski\, MLSN\, Ramtarr\, Dasha Hayes\n> 🍻 Bar Cool Price (NO BYOB)\n> ☮️ Outdoor Chill Zone\n> 🍝 Food : TBA\n> 🅿 Parking Gratuit\n> 🏴‍ +21 ans\n>\n> LGBTQ+ FRIENDLY / INCLUSION / RESPECT / TOLERANCE / GOOD VIBES ONLY &\n> CUT THE CAMERAS \nLe lieu sera annoncé par email aux détenteurs et détentrices de billets
URL:https://villemorte.fr/agenda/disco-patio/
CATEGORIES:DJ Set
ATTACH;FMTTYPE=image/png:https://villemorte.fr/wp-content/uploads/2023/03/DISCO-PATIO-III-V8.png
END:VEVENT
END:VCALENDAR