BEGIN:VCALENDAR
VERSION:2.0
PRODID:-//Ville Morte - ECPv5.12.4//NONSGML v1.0//EN
CALSCALE:GREGORIAN
METHOD:PUBLISH
X-WR-CALNAME:Ville Morte
X-ORIGINAL-URL:https://villemorte.fr
X-WR-CALDESC:évènements pour Ville Morte
BEGIN:VTIMEZONE
TZID:Europe/Paris
BEGIN:DAYLIGHT
TZOFFSETFROM:+0100
TZOFFSETTO:+0200
TZNAME:CEST
DTSTART:20190331T010000
END:DAYLIGHT
BEGIN:STANDARD
TZOFFSETFROM:+0200
TZOFFSETTO:+0100
TZNAME:CET
DTSTART:20191027T010000
END:STANDARD
END:VTIMEZONE
BEGIN:VEVENT
DTSTART;TZID=Europe/Paris:20190105T210000
DTEND;TZID=Europe/Paris:20190105T210000
DTSTAMP:20260424T174808
CREATED:20181223T005838Z
LAST-MODIFIED:20181223T011324Z
UID:7976-1546722000-1546722000@villemorte.fr
SUMMARY:DJ FRANCKY VIN BLANC
DESCRIPTION:CONCERTS GRATUITS\nmusique live de 20h45 à 23h\nwww.trokson.com\nwww.facebook.com/trokson \n\n  \nS5 : DJ FRANCKY VIN BLANC\nrock garage electro rock \n 
URL:https://villemorte.fr/agenda/dj-francky-vin-blanc/
LOCATION:Trokson\, 110 Montée de la grande côte\, Lyon\, 69001\, France
CATEGORIES:DJ Set
END:VEVENT
END:VCALENDAR