BEGIN:VCALENDAR
VERSION:2.0
PRODID:-//Ville Morte - ECPv5.12.4//NONSGML v1.0//EN
CALSCALE:GREGORIAN
METHOD:PUBLISH
X-WR-CALNAME:Ville Morte
X-ORIGINAL-URL:https://villemorte.fr
X-WR-CALDESC:évènements pour Ville Morte
BEGIN:VTIMEZONE
TZID:Europe/Paris
BEGIN:DAYLIGHT
TZOFFSETFROM:+0100
TZOFFSETTO:+0200
TZNAME:CEST
DTSTART:20240331T010000
END:DAYLIGHT
BEGIN:STANDARD
TZOFFSETFROM:+0200
TZOFFSETTO:+0100
TZNAME:CET
DTSTART:20241027T010000
END:STANDARD
END:VTIMEZONE
BEGIN:VEVENT
DTSTART;TZID=Europe/Paris:20240130T200000
DTEND;TZID=Europe/Paris:20240130T200000
DTSTAMP:20260424T235123
CREATED:20231212T211444Z
LAST-MODIFIED:20231212T211444Z
UID:22019-1706644800-1706644800@villemorte.fr
SUMMARY:Dlina Volny + Jennifer Touch
DESCRIPTION:Dlina Volny (synth pop/dark disco\, Biélorussie)\n\nis a post-punk/dark disco/brut-pop trio from Minsk\, Belarus (now based in Vilnius). The band released their second album DAZED on Italians Do It Better in November 2021.Before the pandemic\, Dlina Volny played a number of successful shows\, alongside MOLCHAT DOMA\, KEDR LIVANSKIY\, GENTS\, SUPER BESSE\, to name but a few. They also participated in European festivals\, such as POP KULTUR (online)\, IKEA FESTIVAL (Online)\, BUDAPEST SHOWCASE HUB\, LOFTAS FEST / WHAT’S NEXT In MUSIC (LT)\, POSTCOSMOS X (LT).Their latest video for « Do It » premiered on CLASH\, FADER & post-punk.com.And here’s their live performance for IKEA Festival. \nIn the summer of 2022\, DLINA VOLNY went on a European tour and participated in a number of festivals (United Islans of Europe in Prague\, Different Sounds Festival in Lublin\, Grauzone Festival in The Hague\, Devilstone in Lithuania\, Kalabalik på Tyrolen in Sweden\, Pop Kultur in Berlin\, and belarusian culture festivals in Warsaw & Krakow) as well as played successful solo gigs in Warsaw\, Malta and Paris. They also played Loftas Fest/What’s Next in Music\, and supported Clan of Xymox at their Vilnius show in September 2022. The band have recently teamed up with Grains of Sand (GOS) booking agency to plan a Latin American tour. \n\nJennifer Touch (dark wave/fat cat records\, Berlin)\n\nNé à Berlin Est\, Jennifer Touch se singularise aux platines par un spectre musicale marquée par les sonorités eigthies\, alliant acid\, cold-wave\, romantique.a Après plusieurs maxis signés sur Riotvan (Leipzig)\, elle signe en 2020 son premier album\, « Behind the Wall » sur le fameux label anglais FatCat.
URL:https://villemorte.fr/agenda/dlina-volny-jennifer-touch/
LOCATION:Sonic\, 4 quai des Etroits\, Lyon\, 69005\, France
CATEGORIES:musique live
END:VEVENT
END:VCALENDAR