BEGIN:VCALENDAR
VERSION:2.0
PRODID:-//Ville Morte - ECPv5.12.4//NONSGML v1.0//EN
CALSCALE:GREGORIAN
METHOD:PUBLISH
X-WR-CALNAME:Ville Morte
X-ORIGINAL-URL:https://villemorte.fr
X-WR-CALDESC:évènements pour Ville Morte
BEGIN:VTIMEZONE
TZID:Europe/Paris
BEGIN:DAYLIGHT
TZOFFSETFROM:+0100
TZOFFSETTO:+0200
TZNAME:CEST
DTSTART:20160327T010000
END:DAYLIGHT
BEGIN:STANDARD
TZOFFSETFROM:+0200
TZOFFSETTO:+0100
TZNAME:CET
DTSTART:20161030T010000
END:STANDARD
END:VTIMEZONE
BEGIN:VEVENT
DTSTART;TZID=Europe/Paris:20161015T203000
DTEND;TZID=Europe/Paris:20161015T203000
DTSTAMP:20260424T131716
CREATED:20160915T074830Z
LAST-MODIFIED:20160915T074830Z
UID:2218-1476563400-1476563400@villemorte.fr
SUMMARY:Done+To be announced
DESCRIPTION:@Kraspek Myzik
URL:https://villemorte.fr/agenda/doneto-be-announced/
LOCATION:Kraspek Myzik\, 20 Montée Saint Sébastien\, Lyon\, 69001\, France
CATEGORIES:musique live
END:VEVENT
END:VCALENDAR