BEGIN:VCALENDAR
VERSION:2.0
PRODID:-//Ville Morte - ECPv5.12.4//NONSGML v1.0//EN
CALSCALE:GREGORIAN
METHOD:PUBLISH
X-WR-CALNAME:Ville Morte
X-ORIGINAL-URL:https://villemorte.fr
X-WR-CALDESC:évènements pour Ville Morte
BEGIN:VTIMEZONE
TZID:Europe/Paris
BEGIN:DAYLIGHT
TZOFFSETFROM:+0100
TZOFFSETTO:+0200
TZNAME:CEST
DTSTART:20240331T010000
END:DAYLIGHT
BEGIN:STANDARD
TZOFFSETFROM:+0200
TZOFFSETTO:+0100
TZNAME:CET
DTSTART:20241027T010000
END:STANDARD
END:VTIMEZONE
BEGIN:VEVENT
DTSTART;TZID=Europe/Paris:20240321T190000
DTEND;TZID=Europe/Paris:20240321T190000
DTSTAMP:20260420T053353
CREATED:20240211T172843Z
LAST-MODIFIED:20240211T172843Z
UID:22966-1711047600-1711047600@villemorte.fr
SUMMARY:Duchesse von Buffalo + DJ Pipas + Ju Mono
DESCRIPTION:Dj set : Duchesse von Buffalo sera avec Dj Pipas et Ju Mono jeudi 21 mars à 19h\, house\, reggaeton
URL:https://villemorte.fr/agenda/duchesse-von-buffalo-dj-pipas-ju-mono/
LOCATION:Toï Toï le Zinc\, 17-19 Rue Marcel Dutartre\, Villeurbanne\, 69100 \, France
CATEGORIES:DJ Set
END:VEVENT
END:VCALENDAR