BEGIN:VCALENDAR
VERSION:2.0
PRODID:-//Ville Morte - ECPv5.12.4//NONSGML v1.0//EN
CALSCALE:GREGORIAN
METHOD:PUBLISH
X-WR-CALNAME:Ville Morte
X-ORIGINAL-URL:https://villemorte.fr
X-WR-CALDESC:évènements pour Ville Morte
BEGIN:VTIMEZONE
TZID:Europe/Paris
BEGIN:DAYLIGHT
TZOFFSETFROM:+0100
TZOFFSETTO:+0200
TZNAME:CEST
DTSTART:20190331T010000
END:DAYLIGHT
BEGIN:STANDARD
TZOFFSETFROM:+0200
TZOFFSETTO:+0100
TZNAME:CET
DTSTART:20191027T010000
END:STANDARD
END:VTIMEZONE
BEGIN:VEVENT
DTSTART;TZID=Europe/Paris:20191026T203000
DTEND;TZID=Europe/Paris:20191026T203000
DTSTAMP:20260423T065629
CREATED:20190917T084545Z
LAST-MODIFIED:20190917T084545Z
UID:10751-1572121800-1572121800@villemorte.fr
SUMMARY:Dziano & Ranaldi + Magic Buck
DESCRIPTION:L’an dernier\, Tomek Dziano ouvrait pour Magic Buck au Kraspek.\nCette année c’est l’inverse et Tomek sera en duo guitare-batterie\, sa formule favorite. Une soirée qui réserve forcément des surprises. \n• Dziano & Ranaldi •\nL’un vient du blues\, l’autre du jazz\, complices depuis près de 15 ans sur les scènes de France et d’Europe avec les groupes «Street Blues»\, «Immigrants»\, «Kyla Brox»\, «Tomek Dziano Trio»… Grâce aux compositions de Tomek Dziano\, aux sonorités blues\, soul\, influencées par John Lee HOOKER\, Alan Toussain\, Fats Domino\, Bill Withers\, le duo Dziano & Ranaldi crée un blues à la fois intimiste et puissant\, aux grooves originaux. \nECOUTER : http://bit.ly/2Z8STc7 \n• Magic Buck •\n// Blues – Toulon // \nInfluences principales : Muddy Waters\, Jimmy Reed\, Robert Johnson \nGuitariste\, harmoniciste\, chanteur et inventeur de son fameux « tabourin »\, il a fêté en 2018 les vingt ans de sa carrière solo. Un parcours voué au Blues\, cinq albums\, un répertoire exclusivement original\, quelques épreuves et un nombre incalculable de kilomètres parcourus. Dans un style énergique et intimiste bien à lui\, l’homme chante ce qu’il vit et vit ce qu’il chante\, avec beaucoup de chaleur et d’amour pour les personnes qu’il reçoit\, faisant de chaque concert un moment qui fait du bien. \nECOUTER : http://bit.ly/32QC4EM\nhttp://bit.ly/2GmRgjB\nwww.magicbuck.com \n—————————————————————-\nKRASPEK MYZIK\n20H30 – 6/8€
URL:https://villemorte.fr/agenda/dziano-ranaldi-magic-buck/
LOCATION:Kraspek Myzik\, 20 Montée Saint Sébastien\, Lyon\, 69001\, France
CATEGORIES:musique live
END:VEVENT
END:VCALENDAR