BEGIN:VCALENDAR
VERSION:2.0
PRODID:-//Ville Morte - ECPv5.12.4//NONSGML v1.0//EN
CALSCALE:GREGORIAN
METHOD:PUBLISH
X-WR-CALNAME:Ville Morte
X-ORIGINAL-URL:https://villemorte.fr
X-WR-CALDESC:évènements pour Ville Morte
BEGIN:VTIMEZONE
TZID:Europe/Paris
BEGIN:DAYLIGHT
TZOFFSETFROM:+0100
TZOFFSETTO:+0200
TZNAME:CEST
DTSTART:20180325T010000
END:DAYLIGHT
BEGIN:STANDARD
TZOFFSETFROM:+0200
TZOFFSETTO:+0100
TZNAME:CET
DTSTART:20181028T010000
END:STANDARD
END:VTIMEZONE
BEGIN:VEVENT
DTSTART;TZID=Europe/Paris:20181021T080000
DTEND;TZID=Europe/Paris:20181021T170000
DTSTAMP:20260422T090355
CREATED:20181021T201420Z
LAST-MODIFIED:20181021T201420Z
UID:7399-1540108800-1540141200@villemorte.fr
SUMMARY:Earth Tongue (NZ) ✚ Y? ✚ Black Ink Stain
DESCRIPTION:@ Le Farmer \n// \n\nLe Farmer présente :\nEARTH TONGUE (NZ) ✚ Y? ✚ BLACK INK STAIN\nVendredi 23 novembre ⁂ 20h30 ⁂ 5€\n❤ Unsane\, Sebadoh\, Fugazi\, Melvins\, NoMeansNo\, The Ex\, Cherubs\, Battles\, Mastodon\, Maidavale\, Boss Hog\, At the Drive-In\, Warpaint.. \n⁂ EARTH TONGUE (heavy fuzz stoner – Nouvelle Zélande)\nEarth Tongue dwell in the distant future past. Other-worldly beings drifting upstream – taking all the best bits of the 1970s psych-rock era and placing them back within the alien landscapes from where they first emerged. Gussie Larkin (also in Mermaidens) plays thundering guitar and delicate voice. Ezra Simons (also in Red Sky Blues) plays delicate drums and thundering voice. Thanks to the robotics available to the everyday consumer\, guitars can now sound like many things! Earth Tongue use this technology to their advantage\, capturing sonic textures never before thought possible!\nThe duo have just finished recording the Portable Shrine EP which will be out near the end of September. In the mean time they’re broadcasting the title track Portable Shrine – a duet about a lonely witch getting abducted by a strange light source. Portable Shrine is a fuzzy\, upbeat track that shakes the listener from their comfortable listening experience with jarring time signatures and unexpected pauses – making the seemingly straightforward track something more. Embracing the imperfections and the stranger sides of music is something Earth Tongue take seriously while writing and recording their music.\nFB https://www.facebook.com/earthtongueband/\nBC https://earthtongue.bandcamp.com/track/pentagram-on-the-moon\nYT *live @ Psychfest* https://www.youtube.com/watch?v=JmR81J17kks \n⁂ Y ? (math rock – Périgueux)\nRéduit à sa plus simple expression\, guitare\, chant\, basse\, batterie\, Y? marie le meilleur d’un emocore à vif hérité de Fugazi et des séquences plus bruitistes portées par un jeu sans faille et une communion qui fait merveille à chaque apparition publique. Famille NoMeansNo ou The Ex\, pour tracer de grandes lignes. Une musique qui demande écoute\, loin des gadgets et fanfreluches sonores\, s’élargissant de sages dissonances et de plages atmosphériques qui sont autant de respirations bienvenues dans un ensemble touffu\, dense et parfois brutal… remarquable équilibre entre la colère et le comptemplatif.\nFB https://www.facebook.com/YfromPX/\nBC http://yisthequestion.bandcamp.com \n⁂ BLACK INK STAIN (noise rock – Clermont Ferrand)\nPlaying LOUD\, watching crappy movies\, hating the rest of the world.\nFB https://www.facebook.com/BlackInkStain/\nBC https://blackinkstain.bandcamp.com \n🕣 20h30\n💸 5€ (recettes 100% reversées aux groupes)\n🚴 LE FARMER – 14 montée des Carmélites – 69001 LYON \n\nAfficher moins
URL:https://villemorte.fr/agenda/earth-tongue-nz-%e2%9c%9a-y-%e2%9c%9a-black-ink-stain/
LOCATION:Le Farmer\, 14 montée des Carmélites\, Lyon\, France
CATEGORIES:musique live
ATTACH;FMTTYPE=image/jpeg:https://villemorte.fr/wp-content/uploads/2018/10/40749439_1786321464820341_6499802570016423936_n.jpg
END:VEVENT
END:VCALENDAR