BEGIN:VCALENDAR
VERSION:2.0
PRODID:-//Ville Morte - ECPv5.12.4//NONSGML v1.0//EN
CALSCALE:GREGORIAN
METHOD:PUBLISH
X-WR-CALNAME:Ville Morte
X-ORIGINAL-URL:https://villemorte.fr
X-WR-CALDESC:évènements pour Ville Morte
BEGIN:VTIMEZONE
TZID:Europe/Paris
BEGIN:DAYLIGHT
TZOFFSETFROM:+0100
TZOFFSETTO:+0200
TZNAME:CEST
DTSTART:20230326T010000
END:DAYLIGHT
BEGIN:STANDARD
TZOFFSETFROM:+0200
TZOFFSETTO:+0100
TZNAME:CET
DTSTART:20231029T010000
END:STANDARD
END:VTIMEZONE
BEGIN:VEVENT
DTSTART;TZID=Europe/Paris:20230916T193000
DTEND;TZID=Europe/Paris:20230916T193000
DTSTAMP:20260419T154914
CREATED:20230901T163547Z
LAST-MODIFIED:20230901T164007Z
UID:20522-1694892600-1694892600@villemorte.fr
SUMMARY:Éclairer la nuit de récits autochtones - Association "Pour la suite du monde"
DESCRIPTION:> 19h30 : « Peuples autochtones et pensées décoloniales en Amérique Latine » – CONFÉRENCE et rencontre avec Philippe Colin \nPhilippe Colin est maître de conférences en civilisation de l’Amérique latine. Il est notamment coauteur de « Pensées décoloniales : une introduction aux théories critiques d’Amérique latine » (avec Lissell Quiroz\, Zones\, 2023). En mai 2023\, il signe la préface de « Les Pensées de l’Indien qui s’est éduqué dans les forêts colombiennes »\, livre de Manuel Quintín Lame\, le testament politique et mystique d’un des plus importants leaders autochtones d’Amérique latine.. \nhttps://www.editionsladecouverte.fr/pensees_decoloniales-9782355221538 \nhttps://wildproject.org/livres/les-pensees-de-l-indien-qui-s-est-eduque-dans-les-forets-colombiennes \n> 21h : PROJECTION EN PLEIN AIR \n« L’étreinte du serpent » (2015\, Colombie\, 2h04) \nde Ciro Guerra \nKaramakate\, un chaman amazonien puissant\, dernier survivant de son peuple\, vit isolé dans les profondeurs de la jungle. Des dizaines d’années de solitude ont fait de lui un chullachaqui\, un humain dépourvu de souvenirs et d’émotions. Sa vie est bouleversée par l’arrivée d’Evans\, un ethnobotaniste américain à la recherche de la yakruna\, une plante sacrée très puissante\, possédant la vertu d’apprendre à rêver. Ils entreprennent ensemble un voyage jusqu’au cœur de la forêt Amazonienne au cours duquel\, passé\, présent et futur se confondent\, et qui permettra à Karamakate de retrouver peu à peu ses souvenirs perdus. \n\n\n\n\n\n\n\n\n \nPrix Libre
URL:https://villemorte.fr/agenda/eclairer-la-nuit-de-recits-autochtones-association-pour-la-suite-du-monde-2/
LOCATION:Cercle de boulistes Saint-Irénée\, 32 Rue des Anges\, Lyon\, 69005
END:VEVENT
END:VCALENDAR