BEGIN:VCALENDAR
VERSION:2.0
PRODID:-//Ville Morte - ECPv5.12.4//NONSGML v1.0//EN
CALSCALE:GREGORIAN
METHOD:PUBLISH
X-WR-CALNAME:Ville Morte
X-ORIGINAL-URL:https://villemorte.fr
X-WR-CALDESC:évènements pour Ville Morte
BEGIN:VTIMEZONE
TZID:Europe/Paris
BEGIN:DAYLIGHT
TZOFFSETFROM:+0100
TZOFFSETTO:+0200
TZNAME:CEST
DTSTART:20250330T010000
END:DAYLIGHT
BEGIN:STANDARD
TZOFFSETFROM:+0200
TZOFFSETTO:+0100
TZNAME:CET
DTSTART:20251026T010000
END:STANDARD
END:VTIMEZONE
BEGIN:VEVENT
DTSTART;TZID=Europe/Paris:20250502T203000
DTEND;TZID=Europe/Paris:20250502T203000
DTSTAMP:20260422T221126
CREATED:20250417T113407Z
LAST-MODIFIED:20250417T113407Z
UID:28795-1746217800-1746217800@villemorte.fr
SUMMARY:Eel Men + Midlife
DESCRIPTION:EEL MEN\nGarage Post Punk // U.K.\nEel Men s’est formé en 2021. Inspirés par l’instabilité du présent et le microcosme du nord de Londres\, ils privilégient les guitares anguleuses\, les rythmes droits et la narration fanatique. Après une longue série de concerts transpirants au Royaume-Uni et une tournée européenne\, ils reprennent la route afin de défendre leur nouvel album sorti cette année.\nhttps://eelmen.bandcamp.com/ \nMIDLIFE\nArt Noise // Lyon\nNé des cendres encore fumantes de FUGUES\, Sofy Major et d’ ALABASTER ce nouveau trio lyonnais propose un beau mélange de rock arty proche des récentes productions de Tropical Fuck Storm et d’un minimalisme noise.\nhttps://www.youtube.com/watch?v=-MGabtUhq2Q\nhttps://wearemidlife.bandcamp.com/track/5-48 \n 
URL:https://villemorte.fr/agenda/eel-men-midlife/
LOCATION:Trokson\, 110 Montée de la grande côte\, Lyon\, 69001\, France
CATEGORIES:musique live
END:VEVENT
END:VCALENDAR