BEGIN:VCALENDAR
VERSION:2.0
PRODID:-//Ville Morte - ECPv5.12.4//NONSGML v1.0//EN
CALSCALE:GREGORIAN
METHOD:PUBLISH
X-WR-CALNAME:Ville Morte
X-ORIGINAL-URL:https://villemorte.fr
X-WR-CALDESC:évènements pour Ville Morte
BEGIN:VTIMEZONE
TZID:Europe/Paris
BEGIN:DAYLIGHT
TZOFFSETFROM:+0100
TZOFFSETTO:+0200
TZNAME:CEST
DTSTART:20250330T010000
END:DAYLIGHT
BEGIN:STANDARD
TZOFFSETFROM:+0200
TZOFFSETTO:+0100
TZNAME:CET
DTSTART:20251026T010000
END:STANDARD
END:VTIMEZONE
BEGIN:VEVENT
DTSTART;TZID=Europe/Paris:20250502T203000
DTEND;TZID=Europe/Paris:20250502T203000
DTSTAMP:20260422T221731
CREATED:20250413T135228Z
LAST-MODIFIED:20250413T135228Z
UID:28684-1746217800-1746217800@villemorte.fr
SUMMARY:Emergence : Carte Blanche des bénévoles Mediatone
DESCRIPTION:La Carte Blanche Mediatone revient avec une soirée 100% organisée par ses bénévoles ! Cette année\, elle annonce du rock : Toï Toï vibrera au son d’une sélection pointue de rock brut\, de jazz rock fusion et de poésie post-punk. \n 
URL:https://villemorte.fr/agenda/emergence-carte-blanche-des-benevoles-mediatone/
LOCATION:Toï Toï le Zinc\, 17-19 Rue Marcel Dutartre\, Villeurbanne\, 69100 \, France
CATEGORIES:musique live
END:VEVENT
END:VCALENDAR