BEGIN:VCALENDAR
VERSION:2.0
PRODID:-//Ville Morte - ECPv5.12.4//NONSGML v1.0//EN
CALSCALE:GREGORIAN
METHOD:PUBLISH
X-WR-CALNAME:Ville Morte
X-ORIGINAL-URL:https://villemorte.fr
X-WR-CALDESC:évènements pour Ville Morte
BEGIN:VTIMEZONE
TZID:Europe/Paris
BEGIN:DAYLIGHT
TZOFFSETFROM:+0100
TZOFFSETTO:+0200
TZNAME:CEST
DTSTART:20180325T010000
END:DAYLIGHT
BEGIN:STANDARD
TZOFFSETFROM:+0200
TZOFFSETTO:+0100
TZNAME:CET
DTSTART:20181028T010000
END:STANDARD
END:VTIMEZONE
BEGIN:VEVENT
DTSTART;TZID=Europe/Paris:20181130T203000
DTEND;TZID=Europe/Paris:20181130T203000
DTSTAMP:20260419T210658
CREATED:20181021T211243Z
LAST-MODIFIED:20181021T211726Z
UID:7455-1543609800-1543609800@villemorte.fr
SUMMARY:En mode sans échec: Zacharose + Segfault + Slogan
DESCRIPTION:@ Toï Toï Le Zinc \n// Trois artistes pour redémarrer sur de bonnes bases: Segfault\, 6 musiciens animés par un projet Post-Rock électronique. Zackarose\, un touche a tout\, machines et guitares\, qui nous délivre un son inédit entre Blues et Electro. Et Slogan\, un homme\, une femme\, une rencontre sur un plateau\, des rythmiques qui tapent et des paroles qui touchent. Infos et billetterie >
URL:https://villemorte.fr/agenda/en-mode-sans-echec-zacharose-segfault-slogan/
LOCATION:Toï Toï le Zinc\, 17-19 Rue Marcel Dutartre\, Villeurbanne\, 69100 \, France
CATEGORIES:musique live
END:VEVENT
END:VCALENDAR