BEGIN:VCALENDAR
VERSION:2.0
PRODID:-//Ville Morte - ECPv5.12.4//NONSGML v1.0//EN
CALSCALE:GREGORIAN
METHOD:PUBLISH
X-WR-CALNAME:Ville Morte
X-ORIGINAL-URL:https://villemorte.fr
X-WR-CALDESC:évènements pour Ville Morte
BEGIN:VTIMEZONE
TZID:Europe/Paris
BEGIN:DAYLIGHT
TZOFFSETFROM:+0100
TZOFFSETTO:+0200
TZNAME:CEST
DTSTART:20220327T010000
END:DAYLIGHT
BEGIN:STANDARD
TZOFFSETFROM:+0200
TZOFFSETTO:+0100
TZNAME:CET
DTSTART:20221030T010000
END:STANDARD
END:VTIMEZONE
BEGIN:VEVENT
DTSTART;TZID=Europe/Paris:20220430T203000
DTEND;TZID=Europe/Paris:20220430T203000
DTSTAMP:20260425T185258
CREATED:20220411T204254Z
LAST-MODIFIED:20220427T081852Z
UID:15537-1651350600-1651350600@villemorte.fr
SUMMARY:Epaule Tattoo + Grand Ordinaire + Ayatollah + Commando
DESCRIPTION:Epaule Tattoo pourrait peut être bien être la nouvelle sensation rock lyonnaise\, mais on ne se prononce pas encore parce qu’ ielles se produiront pour la première fois (enfin\, surtout Paule\, la chanteuse) avec leur Punk chelou ce soir là alors on la ramène pas trop non plus..\nhttps://epauletattoo.bandcamp.com/releases\n\nAyatollah\, né sur les cendres encore brûlantes d’Overmars\, reprend tout d’abord la lourdeur du groupe suscité puis change de batteur pour opter pour Roland\, bien plus carré. On nage plus dans l’indus donc\, mais la générosité toute naturelle des membres du quatuor nous fait tout de suite oublier cette machinerie.\nhttps://putainayatollah.bandcamp.com/\n\nCommando. Après les Lost Boys\, Granflaire et Bobo n’ont pas chômé et on continué à composer des riffs cinglants et rapides jusqu’à trouver un rapide capable de tenir le rythme (un Stéphanois bien évidemment) et un chanteur avec des choses à dire\, peut être même trop des fois d’ailleurs… vous voulez vraiment savoir la vérité sur internet ?\nhttps://nefastecommando.bandcamp.com/…/les-genoux-corch-s\n\nThe Grand Ordinaire\, enfin en duo. la dernière édition du festival qui déraille avait eu raison de Morgan\, bien avant la covid 224 ou je ne sais quel numéro. Le batteur avait eu une gastro des plus classiques qui l’avait poussé à laisser son acolyte\, Lonely Cat\, à jouer en solo. Heureusement qu’il sait le faire.\nhttps://thegrandordinaire.bandcamp.com/album/ep\n\nTous les groupes répètent à L’union Associative Intellectuelle (oui\, oui\, vous lisez bien !!) des Cheminots Lyonnais et on leur doit de faire un concert dans leurs locaux régulièrement mais après tout\, ça permet de faire un concert gratos\, c’est pas plus mal.\nAmbiance SNCF à la cool mais Bière & Merguez au programme donc si vous êtes végétariens\, mangez un truc avant je dirais… désolé.\n 
URL:https://villemorte.fr/agenda/epaule-tattoo-grand-ordinaire-ayatollah-commando/
LOCATION:L’escale\, 20 rue Mouillard\, Lyon\, 69009\, France
CATEGORIES:musique live
ATTACH;FMTTYPE=image/jpeg:https://villemorte.fr/wp-content/uploads/2022/04/IMG-20220414-WA0000.jpg
END:VEVENT
END:VCALENDAR