BEGIN:VCALENDAR
VERSION:2.0
PRODID:-//Ville Morte - ECPv5.12.4//NONSGML v1.0//EN
CALSCALE:GREGORIAN
METHOD:PUBLISH
X-WR-CALNAME:Ville Morte
X-ORIGINAL-URL:https://villemorte.fr
X-WR-CALDESC:évènements pour Ville Morte
BEGIN:VTIMEZONE
TZID:Europe/Paris
BEGIN:DAYLIGHT
TZOFFSETFROM:+0100
TZOFFSETTO:+0200
TZNAME:CEST
DTSTART:20160327T010000
END:DAYLIGHT
BEGIN:STANDARD
TZOFFSETFROM:+0200
TZOFFSETTO:+0100
TZNAME:CET
DTSTART:20161030T010000
END:STANDARD
END:VTIMEZONE
BEGIN:VEVENT
DTSTART;TZID=Europe/Paris:20160503T183000
DTEND;TZID=Europe/Paris:20160503T220000
DTSTAMP:20260422T111556
CREATED:20160503T110411Z
LAST-MODIFIED:20160503T110411Z
UID:1598-1462300200-1462312800@villemorte.fr
SUMMARY:[Extra NS] POUR L'AMOUR DU DISQUE #07 // PANTHA DU PRINCE + ARNAUD REBOTINI & CHRISTIAN ZANESI
DESCRIPTION:Génération Spontanée\nen partenariat avec le Bomp & Tiki Vinyl Store\npropose dans le cadre d’Extra! Nuits sonores 2016 : \nPOUR L’AMOUR DU DISQUE\nSessions d’écoute d’albums en avant-première\n–\nStructure organisatrice de concerts pop à Lyon depuis 2011\, Génération Spontanée propose un nouveau rendez-vous mensuel autour de l’objet disque : POUR L’AMOUR DU DISQUE. \n▶ POUR L’AMOUR DU DISQUE\, c’est une invitation à venir découvrir en avant-première (= avant leur sortie) le nouvel album d’un groupe ou artiste au coeur de la création musicale d’aujourd’hui. \n▶ EN ÉCOUTE Mardi 03 Mai :\nà 19h : écoute de « Frontières »\, nouvel album de Arnaud Rebotini & Christian Zanési (Blackstrobe (Official) Records – sortie le 06 Mai)\nà 20h : BLIND TEST spécial Nuits Sonores avec des albums et des places pour Nuits sonores à gagner !\nà 20h30 : écoute de « The Triad »\, nouvel album de Pantha Du Prince (Rough Trade Records\, Beggars France – sortie le 20 Mai)\nà 21h30 : Résultats du blind test ! \n▶ DISQUAIRE PARTENAIRE : TIKI VINYL STORE\nDisquaire 100% vinyls installé rue Leynaud\, Tiki Vinyl Store est présent sur chaque session d’écoute avec une sélection de nouveautés\, et proposera la PRÉCOMMANDE des deux albums en écoute. \nENTRÉE LIBRE !!!
URL:https://villemorte.fr/agenda/extra-ns-lamour-disque-07-pantha-prince-arnaud-rebotini-christian-zanesi/
LOCATION:Bomp\, 1 - 2 Place Croix-Paquet\,  LYON\, 69001
CATEGORIES:musique enregistrée
END:VEVENT
END:VCALENDAR