BEGIN:VCALENDAR
VERSION:2.0
PRODID:-//Ville Morte - ECPv5.12.4//NONSGML v1.0//EN
CALSCALE:GREGORIAN
METHOD:PUBLISH
X-WR-CALNAME:Ville Morte
X-ORIGINAL-URL:https://villemorte.fr
X-WR-CALDESC:évènements pour Ville Morte
BEGIN:VTIMEZONE
TZID:Europe/Paris
BEGIN:DAYLIGHT
TZOFFSETFROM:+0100
TZOFFSETTO:+0200
TZNAME:CEST
DTSTART:20230326T010000
END:DAYLIGHT
BEGIN:STANDARD
TZOFFSETFROM:+0200
TZOFFSETTO:+0100
TZNAME:CET
DTSTART:20231029T010000
END:STANDARD
END:VTIMEZONE
BEGIN:VEVENT
DTSTART;TZID=Europe/Paris:20231028T200000
DTEND;TZID=Europe/Paris:20231028T200000
DTSTAMP:20260422T125732
CREATED:20230918T103758Z
LAST-MODIFIED:20230918T103758Z
UID:20750-1698523200-1698523200@villemorte.fr
SUMMARY:FACT - Festival Art et Création Trans
DESCRIPTION:More to come 🙂
URL:https://villemorte.fr/agenda/fact-festival-art-et-creation-trans/
LOCATION:Grrrnd Zero\, 60\, avenue de Bohlen\, Vaulx en Velin\, 69120
CATEGORIES:festival
END:VEVENT
END:VCALENDAR