BEGIN:VCALENDAR
VERSION:2.0
PRODID:-//Ville Morte - ECPv5.12.4//NONSGML v1.0//EN
CALSCALE:GREGORIAN
METHOD:PUBLISH
X-WR-CALNAME:Ville Morte
X-ORIGINAL-URL:https://villemorte.fr
X-WR-CALDESC:évènements pour Ville Morte
BEGIN:VTIMEZONE
TZID:Europe/Paris
BEGIN:DAYLIGHT
TZOFFSETFROM:+0100
TZOFFSETTO:+0200
TZNAME:CEST
DTSTART:20230326T010000
END:DAYLIGHT
BEGIN:STANDARD
TZOFFSETFROM:+0200
TZOFFSETTO:+0100
TZNAME:CET
DTSTART:20231029T010000
END:STANDARD
END:VTIMEZONE
BEGIN:VEVENT
DTSTART;TZID=Europe/Paris:20231014T203000
DTEND;TZID=Europe/Paris:20231014T203000
DTSTAMP:20260422T125123
CREATED:20230918T102102Z
LAST-MODIFIED:20230918T102102Z
UID:20735-1697315400-1697315400@villemorte.fr
SUMMARY:Faucheuse + Meurtrières
DESCRIPTION:FAUCHEUSE – D-beat // Bordeaux\n\nD-beat (pour Discharge Beat) furieux et rock n’roll avec des morceaux qui retiennent l’attention et traversent tes oreilles comme des missiles intercontinentaux en pleine guerre froide. Ça décolle de Bordeaux\, ça rase Lyon. Avec des membres de BOMBARDEMENT et YEAR OF NO LIGHT au cas où quelqu’un douterait encore du sérieux de l’opération. \nhttps://faucheuse.bandcamp.com/album/faucheuse \n\nMEURTRIÈRES – Heavy Metal // Lyon\n\nHeavy metal lyonnais épique since 2018. Pensez early Iron Maiden. early Judas Priest. Et pour les amateurs et amatrices de fête (et il y en a)\, cette date marque la release party de leur nouvel album (Ronde de Nuit) et permettra de répondre à cette question que tout le monde se pose depuis l’ouverture du trokson: Peut-on faire rentrer 5 chevaux dans la cave? \nhttps://meurtrieres.bandcamp.com/
URL:https://villemorte.fr/agenda/faucheuse-meurtrieres/
LOCATION:Trokson\, 110 Montée de la grande côte\, Lyon\, 69001\, France
CATEGORIES:musique live
END:VEVENT
END:VCALENDAR