BEGIN:VCALENDAR
VERSION:2.0
PRODID:-//Ville Morte - ECPv5.12.4//NONSGML v1.0//EN
CALSCALE:GREGORIAN
METHOD:PUBLISH
X-WR-CALNAME:Ville Morte
X-ORIGINAL-URL:https://villemorte.fr
X-WR-CALDESC:évènements pour Ville Morte
BEGIN:VTIMEZONE
TZID:Europe/Paris
BEGIN:DAYLIGHT
TZOFFSETFROM:+0100
TZOFFSETTO:+0200
TZNAME:CEST
DTSTART:20220327T010000
END:DAYLIGHT
BEGIN:STANDARD
TZOFFSETFROM:+0200
TZOFFSETTO:+0100
TZNAME:CET
DTSTART:20221030T010000
END:STANDARD
END:VTIMEZONE
BEGIN:VEVENT
DTSTART;TZID=Europe/Paris:20220918T200000
DTEND;TZID=Europe/Paris:20220918T200000
DTSTAMP:20260422T130027
CREATED:20220608T104917Z
LAST-MODIFIED:20220823T130540Z
UID:16133-1663531200-1663531200@villemorte.fr
SUMMARY:Fear City Fest : Burning Kross + Verzet + groupe surprise
DESCRIPTION:Samedi 10 Septembre – 17H00/au chapeau\nBasement (44 rue Salomon Reinach Lyon 7)\n\n– ALARM (punk grenoble)\n– LITOVSK (post punk brest)\n+ After DJ Set par DJ Swindle\n\nStand présentation tatoo + expo photos à partir de 14H00\n\nVendredi 16 Septembre – 20H00/5€\nLe Farmer (14 Montée des Carmélites Lyon 1)\n\n– COMMANDO (punk lyon)\n– LA HESS (punk hardcore lyon)\n– SCIMMIA (punk lyon)\n\nSamedi 17 Septembre – 17H00/10€\nGrrrnd Zero (60 avenue de Bohlen Vaulx en Velin)- INSECURITY (punk hardcore nantes)\n– REVERTT (punk hardcore pays basque)\n– KOLPEKA (punk hardcore pays basque)\n– INSTRUCTOR (punk hardcore belgique)\n– CLAIMED CHOICE (punk lyon)\n– BOMBARDEMENT (d-beat punk hardcore bordeaux)\n– OGRO (punk hardcore pays basque)\n– SCHIZOID (punk hardcore nantes)\n– TRAP (punk hardcore toulouse) \n+ stand fanzine\, distro\, merch\, bouffe \nDimanche 18 Septembre – 20H00/5€\nL’Ambuscade (35 rue Imbert Colomes Lyon 1)\n– BURNING KROSS (punk hardcore belgique)\n– VERZET (punk belgique)\n+ groupe surprise\n+ After DJ Set par DJ l’Amoroso \nFlash tatoo à partir de 11H00 à Biribi (66 rue Sébastien Gryphe Lyon 7)\n\nfearcitylyon.wordpress.com\nwelcometofearcitylyon@gmail.com
URL:https://villemorte.fr/agenda/fear-city-fest-la-hess-burning-kross-verzet/
LOCATION:Ambuscade\, 35 Rue Imbert Colomès\, LYON\, 69001
CATEGORIES:musique live
ATTACH;FMTTYPE=image/png:https://villemorte.fr/wp-content/uploads/2022/06/FINAL.png
END:VEVENT
END:VCALENDAR