BEGIN:VCALENDAR
VERSION:2.0
PRODID:-//Ville Morte - ECPv5.12.4//NONSGML v1.0//EN
CALSCALE:GREGORIAN
METHOD:PUBLISH
X-WR-CALNAME:Ville Morte
X-ORIGINAL-URL:https://villemorte.fr
X-WR-CALDESC:évènements pour Ville Morte
BEGIN:VTIMEZONE
TZID:Europe/Paris
BEGIN:DAYLIGHT
TZOFFSETFROM:+0100
TZOFFSETTO:+0200
TZNAME:CEST
DTSTART:20220327T010000
END:DAYLIGHT
BEGIN:STANDARD
TZOFFSETFROM:+0200
TZOFFSETTO:+0100
TZNAME:CET
DTSTART:20221030T010000
END:STANDARD
END:VTIMEZONE
BEGIN:VEVENT
DTSTART;TZID=Europe/Paris:20221007T210000
DTEND;TZID=Europe/Paris:20221007T210000
DTSTAMP:20260426T053833
CREATED:20220809T134333Z
LAST-MODIFIED:20220809T134333Z
UID:16470-1665176400-1665176400@villemorte.fr
SUMMARY:Francesca Han & Ralph Alessi
DESCRIPTION:Affirmer sa propre personnalité musicale par la composition et l’improvisation est le chemin qu’a choisi d’emprunter le duo de Francesca Han (piano\, compositions) et Ralph Alessi (trompette\, compositions). Et si l’on ressent une telle complicité à l’œuvre\, c’est que la pianiste et le trompettiste n’en sont pas à leur première rencontre.
URL:https://villemorte.fr/agenda/francesca-han-ralph-alessi/
LOCATION:Périscope\, 13 rue Delandine\, Lyon\, 69002\, France
CATEGORIES:musique live,release party
END:VEVENT
END:VCALENDAR