BEGIN:VCALENDAR
VERSION:2.0
PRODID:-//Ville Morte - ECPv5.12.4//NONSGML v1.0//EN
CALSCALE:GREGORIAN
METHOD:PUBLISH
X-WR-CALNAME:Ville Morte
X-ORIGINAL-URL:https://villemorte.fr
X-WR-CALDESC:évènements pour Ville Morte
BEGIN:VTIMEZONE
TZID:Europe/Paris
BEGIN:DAYLIGHT
TZOFFSETFROM:+0100
TZOFFSETTO:+0200
TZNAME:CEST
DTSTART:20210328T010000
END:DAYLIGHT
BEGIN:STANDARD
TZOFFSETFROM:+0200
TZOFFSETTO:+0100
TZNAME:CET
DTSTART:20211031T010000
END:STANDARD
END:VTIMEZONE
BEGIN:VEVENT
DTSTART;TZID=Europe/Paris:20211215T203000
DTEND;TZID=Europe/Paris:20211215T203000
DTSTAMP:20260419T142940
CREATED:20211118T162701Z
LAST-MODIFIED:20211118T162701Z
UID:14217-1639600200-1639600200@villemorte.fr
SUMMARY:FRANK RABEYROLLES + THIERRY HOLWECK
DESCRIPTION:FRANCK RABEYROLLES\n\nPop fantasmé\nOn ne compte plus les albums de Frank Rabeyrolles ni ses pseudos (Franklin\, Double U ) à quoi bon d’ailleurs ? c’est sans doute à une toute autre temporalité qu’il voue son travail d’artisan obsessionnel et frénétique\, un autre monde détaché du réel\, du sujet\, et plus tout à fait connecté . Alors à quoi faut il s’attendre à l’écoute de ce nouvel EP ?\nDes percussions légères\, des guitares claires et réverbérées\, une Pop fantasmée habitée par de lointaines réminiscences\, strates\, traces d’un voyage intérieur/ extérieur clairsemé de voix éthérées .Une quête inachevée\, insoluble\, le manque\,\nla frustration\, l’impossible retour voici donc les principes moteurs de la musique de Franck Rabeyrolles.\nFacebook\nÉcouter\n\n\n\n\n\n\n\n\n\n\n\n\n\n\n\n\n\nTHIERRY HOLWECK\n\nExpérimentale – ambiant – minimaliste\nThierry Holweck\, est un multi-instrumentiste et musicien électronique utilisant un système de synthèse modulaire. À la base de son travail\, des heures de recherche\, d’exploration et la creation de sons le plus souvent de manière intuitive et souvent par accident. À travers l’exploration des rythmes\, polyrythmes et séquences altères par des paramètres de randomisation ou euclidiens\, Thierry construit ses morceaux\, mélange de mélodies minimales mixées avec des sons naturels samples et modifies dans le but d’ajouter de la profondeur a son travail. Sur scène\, il associe son synthe modulaire a un theremin.\nFacebook\nÉcouter
URL:https://villemorte.fr/agenda/frank-rabeyrolles-thierry-holweck/
LOCATION:Kraspek Myzik\, 20 Montée Saint Sébastien\, Lyon\, 69001\, France
CATEGORIES:musique live
END:VEVENT
END:VCALENDAR