BEGIN:VCALENDAR
VERSION:2.0
PRODID:-//Ville Morte - ECPv5.12.4//NONSGML v1.0//EN
CALSCALE:GREGORIAN
METHOD:PUBLISH
X-WR-CALNAME:Ville Morte
X-ORIGINAL-URL:https://villemorte.fr
X-WR-CALDESC:évènements pour Ville Morte
BEGIN:VTIMEZONE
TZID:Europe/Paris
BEGIN:DAYLIGHT
TZOFFSETFROM:+0100
TZOFFSETTO:+0200
TZNAME:CEST
DTSTART:20240331T010000
END:DAYLIGHT
BEGIN:STANDARD
TZOFFSETFROM:+0200
TZOFFSETTO:+0100
TZNAME:CET
DTSTART:20241027T010000
END:STANDARD
END:VTIMEZONE
BEGIN:VEVENT
DTSTART;TZID=Europe/Paris:20240613T193000
DTEND;TZID=Europe/Paris:20240613T193000
DTSTAMP:20260419T154153
CREATED:20240519T120307Z
LAST-MODIFIED:20240519T120307Z
UID:24740-1718307000-1718307000@villemorte.fr
SUMMARY:Freaksight + Punish
DESCRIPTION:📌 FREAKSIGHT ( Metal Moderne )\n➡ https://www.facebook.com/profile.php?id=100078729432435\n📌 PUNISH ( Heavy Metal )\n➡ https://www.facebook.com/Punishband
URL:https://villemorte.fr/agenda/freaksight-punish/
LOCATION:Rock n Eat\, 32 Quai Arloing\, Lyon\, 69009
CATEGORIES:musique live
END:VEVENT
END:VCALENDAR