BEGIN:VCALENDAR
VERSION:2.0
PRODID:-//Ville Morte - ECPv5.12.4//NONSGML v1.0//EN
CALSCALE:GREGORIAN
METHOD:PUBLISH
X-WR-CALNAME:Ville Morte
X-ORIGINAL-URL:https://villemorte.fr
X-WR-CALDESC:évènements pour Ville Morte
BEGIN:VTIMEZONE
TZID:Europe/Paris
BEGIN:DAYLIGHT
TZOFFSETFROM:+0100
TZOFFSETTO:+0200
TZNAME:CEST
DTSTART:20180325T010000
END:DAYLIGHT
BEGIN:STANDARD
TZOFFSETFROM:+0200
TZOFFSETTO:+0100
TZNAME:CET
DTSTART:20181028T010000
END:STANDARD
END:VTIMEZONE
BEGIN:VEVENT
DTSTART;TZID=Europe/Paris:20181218T203000
DTEND;TZID=Europe/Paris:20181218T203000
DTSTAMP:20260419T145459
CREATED:20181123T141208Z
LAST-MODIFIED:20181123T141208Z
UID:7732-1545165000-1545165000@villemorte.fr
SUMMARY:Free Angela | Ciné-débat
DESCRIPTION:Ciné-débat. Séance accompagnée d’une rencontre avec l’association Si/si\, les femmes existent. \nFree Angela raconte l’histoire d’une jeune professeure de philosophie\, née en Alabama\, issue d’une famille d’intellectuels afro-américains\, politiquement engagée. Durant sa jeunesse\, Angela Davis est profondément marquée par son expérience du racisme\, des humiliations de la ségrégation raciale et du climat de violence qui règne autour d’elle. \nRéalisé par Shola Lynch\n1h37 | France\, États-Unis | 2013 | Documentaire | Jour2Fête \nAvec cette projection le Zola et l’association Si/si\, les femmes existent poursuivent une collaboration autour de la question de l’égalité entre les femmes et les hommes. C’est la deuxième des trois séances qui vous sont proposées au cours de l’année\, après À la rencontre des femmes chefs.
URL:https://villemorte.fr/agenda/free-angela-cine-debat/
LOCATION:Cinéma Le Zola\, 117\, cours Emile Zola\, Villeurbanne\, 69100\, France
CATEGORIES:projection
END:VEVENT
END:VCALENDAR