BEGIN:VCALENDAR
VERSION:2.0
PRODID:-//Ville Morte - ECPv5.12.4//NONSGML v1.0//EN
CALSCALE:GREGORIAN
METHOD:PUBLISH
X-WR-CALNAME:Ville Morte
X-ORIGINAL-URL:https://villemorte.fr
X-WR-CALDESC:évènements pour Ville Morte
BEGIN:VTIMEZONE
TZID:Europe/Paris
BEGIN:DAYLIGHT
TZOFFSETFROM:+0100
TZOFFSETTO:+0200
TZNAME:CEST
DTSTART:20210328T010000
END:DAYLIGHT
BEGIN:STANDARD
TZOFFSETFROM:+0200
TZOFFSETTO:+0100
TZNAME:CET
DTSTART:20211031T010000
END:STANDARD
END:VTIMEZONE
BEGIN:VEVENT
DTSTART;TZID=Europe/Paris:20211112T190000
DTEND;TZID=Europe/Paris:20211112T190000
DTSTAMP:20260422T143940
CREATED:20211010T202618Z
LAST-MODIFIED:20211010T202618Z
UID:13973-1636743600-1636743600@villemorte.fr
SUMMARY:Frise lumière
DESCRIPTION: 
URL:https://villemorte.fr/agenda/frise-lumiere/
LOCATION:L’Atelier des Canulars\, 91 rue Montesquieu\, LYON\, 69007
CATEGORIES:musique live
END:VEVENT
END:VCALENDAR