BEGIN:VCALENDAR
VERSION:2.0
PRODID:-//Ville Morte - ECPv5.12.4//NONSGML v1.0//EN
CALSCALE:GREGORIAN
METHOD:PUBLISH
X-WR-CALNAME:Ville Morte
X-ORIGINAL-URL:https://villemorte.fr
X-WR-CALDESC:évènements pour Ville Morte
BEGIN:VTIMEZONE
TZID:Europe/Paris
BEGIN:DAYLIGHT
TZOFFSETFROM:+0100
TZOFFSETTO:+0200
TZNAME:CEST
DTSTART:20190331T010000
END:DAYLIGHT
BEGIN:STANDARD
TZOFFSETFROM:+0200
TZOFFSETTO:+0100
TZNAME:CET
DTSTART:20191027T010000
END:STANDARD
END:VTIMEZONE
BEGIN:VEVENT
DTSTART;TZID=Europe/Paris:20191026T200000
DTEND;TZID=Europe/Paris:20191026T200000
DTSTAMP:20260423T120651
CREATED:20190903T190054Z
LAST-MODIFIED:20191021T122321Z
UID:10547-1572120000-1572120000@villemorte.fr
SUMMARY:FUN FUN FUNERAL + KASSIE KRUT + AHMED AG KAEDY + DJ MATTEO BONGO JOE
DESCRIPTION:SAM 26/10 : FUN FUN FUNERAL + Kassie Krut + AHMED AG KAEDY + DJ MATTEO BONGO JOE \nfun house & friends présentent \nFUN FUN FUNERAL (ab records – fr)\nduo polypop de clément sbaffe et dean spacer. release party du premier album <> \nhttps://www.youtube.com/watch?v=xUtVBokQkN4# \nhttps://funfunfuneral.bandcamp.com/ \n  \nKASSIE KRUT (nino tomorrow – usa)\npop-valse magique sur un arc-en-ciel. deux membres du groupe palm. \nhttps://www.youtube.com/watch?v=6tnojurYY2Q  \nhttps://www.youtube.com/watch?v=qtSVq0IYqk8  \n  \nAHMED AG KAEDY (sahel sounds – mali)\nchanteur royal et maestro de guitar folk touareg. charming and chill\, dude. \nhttps://amanardekidal.bandcamp.com/album/akaline-kidal \n  \nDJ MATTIØ (bongo joe – ch)\nsynth\, world\, disco\, postpunk et une machine à fumée \nhttps://lyl.live/episode/pom-pom-galli-19/ \n  \nDJs FFF\ntourneo sound system \nhttps://www.youtube.com/watch?v=iU37WbGvWm4 \n  \n+/-  6 euros \nDe 20h jusqu’á tard \n60 Avenue de Bohlen
URL:https://villemorte.fr/agenda/fun-fun-funeral-away-kit-ahmed-ag-kaedy-dj-matteo-bongo-joe/
LOCATION:Grrrnd Zero\, 60\, avenue de Bohlen\, Vaulx en Velin\, 69120
CATEGORIES:club,musique live,release party
ATTACH;FMTTYPE=image/jpeg:https://villemorte.fr/wp-content/uploads/2019/09/affiche_funfunfuneral_37c78.jpg
END:VEVENT
END:VCALENDAR