BEGIN:VCALENDAR
VERSION:2.0
PRODID:-//Ville Morte - ECPv5.12.4//NONSGML v1.0//EN
CALSCALE:GREGORIAN
METHOD:PUBLISH
X-WR-CALNAME:Ville Morte
X-ORIGINAL-URL:https://villemorte.fr
X-WR-CALDESC:évènements pour Ville Morte
BEGIN:VTIMEZONE
TZID:Europe/Paris
BEGIN:DAYLIGHT
TZOFFSETFROM:+0100
TZOFFSETTO:+0200
TZNAME:CEST
DTSTART:20230326T010000
END:DAYLIGHT
BEGIN:STANDARD
TZOFFSETFROM:+0200
TZOFFSETTO:+0100
TZNAME:CET
DTSTART:20231029T010000
END:STANDARD
END:VTIMEZONE
BEGIN:VEVENT
DTSTART;TZID=Europe/Paris:20230126T183000
DTEND;TZID=Europe/Paris:20230126T183000
DTSTAMP:20260424T235257
CREATED:20230107T212122Z
LAST-MODIFIED:20230107T212122Z
UID:18194-1674757800-1674757800@villemorte.fr
SUMMARY:Gerland - Un air de Brooklyn
DESCRIPTION:Projection/Débat autour du film le jeudi 26 janvier à 18h30 à la Librairie Archipel – LYON 1 \nDocumentaire de Lionel RETORNAZ\n57 mins – 2023 – France \nQu’est-ce que l’on entend (vraiment) par transformation urbaine ? \n \nTandis que le quartier de Gerland se présente depuis plusieurs décennies comme la vitrine de la Métropole lyonnaise attractive\, dynamique et connectée\, des habitant·e·s racontent un autre quartier et questionnent la façon dont sont (re-)présentées les transformations urbaines. Après avoir mené pendant plus de 6 ans des projets d’action culturelle dans le quartier\, le cinéaste continue de développer une approche sensible et critique des environnements urbains contemporains. \nEn présence des architectes Alexis STREMSDOERFER et Antoine BEGEL de l’Atelier d’Architecture Commune \n\nhttps://fb.me/e/5tZAI4rpg\nhttps://www.archipel-librairie.fr/\nhttps://www.lionelretornaz.com\nhttps://www.inattendus.com
URL:https://villemorte.fr/agenda/gerland-un-air-de-brooklyn-4/
LOCATION:Archipel Librairie\, 21 Place des Terreaux\, Lyon\, 69001
CATEGORIES:débat,projection
ATTACH;FMTTYPE=image/jpeg:https://villemorte.fr/wp-content/uploads/2023/01/GERLAND-Facebook-Cover-Gen-Simple.jpg
END:VEVENT
END:VCALENDAR