BEGIN:VCALENDAR
VERSION:2.0
PRODID:-//Ville Morte - ECPv5.12.4//NONSGML v1.0//EN
CALSCALE:GREGORIAN
METHOD:PUBLISH
X-WR-CALNAME:Ville Morte
X-ORIGINAL-URL:https://villemorte.fr
X-WR-CALDESC:évènements pour Ville Morte
BEGIN:VTIMEZONE
TZID:Europe/Paris
BEGIN:DAYLIGHT
TZOFFSETFROM:+0100
TZOFFSETTO:+0200
TZNAME:CEST
DTSTART:20230326T010000
END:DAYLIGHT
BEGIN:STANDARD
TZOFFSETFROM:+0200
TZOFFSETTO:+0100
TZNAME:CET
DTSTART:20231029T010000
END:STANDARD
END:VTIMEZONE
BEGIN:VEVENT
DTSTART;TZID=Europe/Paris:20231201T200000
DTEND;TZID=Europe/Paris:20231201T200000
DTSTAMP:20260420T173851
CREATED:20231115T184542Z
LAST-MODIFIED:20231120T233250Z
UID:21602-1701460800-1701460800@villemorte.fr
SUMMARY:GJ106 DJ Set
DESCRIPTION:GJ106 (Dj set)\n\nQuand l’iconoclaste GJ106 officie en DJ set\, il relie les points entre ses influences EBM\, Post-punk\, electro dark\, synth wave lourde pour aller où on ne l’attend pas.\nDanses tachycardies\, interventions vocales foraines et mutantes\, et un seul objectif : faire suinter la peau et les murs
URL:https://villemorte.fr/agenda/gj106/
LOCATION:Trokson\, 110 Montée de la grande côte\, Lyon\, 69001\, France
CATEGORIES:DJ Set
END:VEVENT
END:VCALENDAR